BEGIN:VCALENDAR
VERSION:2.0
PRODID:-//ChamberMaster//Event Calendar 2.0//EN
METHOD:PUBLISH
X-PUBLISHED-TTL:P3D
REFRESH-INTERVAL:P3D
CALSCALE:GREGORIAN
BEGIN:VEVENT
DTSTART:20201209T140000Z
DTEND:20201209T150000Z
X-MICROSOFT-CDO-ALLDAYEVENT:FALSE
SUMMARY:Conversation with Congresswoman Elise Stefanik
DESCRIPTION:Join the ARCC for a moderated conversation with Congresswoman Elise Stefanik. The Congresswoman will be providing updates that affect our business community. Conversation will be moderated by ARCC President Michael Bittel.\n\n\n\nIf you have a question for Congresswoman Stefanik\, please email them to ARCC Marketing Director Amanda Blanton\, at ablanton@adirondackchamber.org.
X-ALT-DESC;FMTTYPE=text/html:Join the ARCC for a moderated conversation with Congresswoman Elise Stefanik. The Congresswoman will be providing updates that affect our business community. Conversation will be moderated by ARCC President Michael Bittel.<br />\n<br />\n<em><strong>If you have a question for Congresswoman Stefanik\, please email them to ARCC Marketing Director Amanda Blanton\, at <a href="mailto:ablanton@adirondackchamber.org">ablanton@adirondackchamber.org</a>.</strong></em>
LOCATION:Virtual via Zoom
UID:e.1842.4012
SEQUENCE:3
DTSTAMP:20260421T054239Z
URL:http://business.adirondackchamber.org/events/details/conversation-with-congresswoman-elise-stefanik-4012
END:VEVENT

END:VCALENDAR
