BEGIN:VCALENDAR
VERSION:2.0
PRODID:-//ChamberMaster//Event Calendar 2.0//EN
METHOD:PUBLISH
X-PUBLISHED-TTL:P3D
REFRESH-INTERVAL:P3D
CALSCALE:GREGORIAN
BEGIN:VEVENT
DTSTART;VALUE=DATE:20170814
DTEND;VALUE=DATE:20170815
TRANSP:TRANSPARENT
X-MICROSOFT-CDO-ALLDAYEVENT:TRUE
SUMMARY:Chamber Day at the Rail
DESCRIPTION:SOLD OUT! \n\nEnjoy thoroughbred racing at its finest\, at the historic Saratoga Race Course\, opened over 150 years ago. Named one of the world's greatest sporting venues by Sports Illustrated\, the past comes alive in the historic grandstand every summer as fans experience not only the best in racing\, but the unmatched ambience and charm of historic Saratoga Springs.
X-ALT-DESC;FMTTYPE=text/html:<p><span style="font-size:16px\;"><strong>SOLD OUT! </strong></span></p>\n\n<p><span style="color: rgb(0\, 0\, 0)\; font-family: Tahoma\, Arial\, sans-serif\; font-size: 14.6667px\; text-align: -webkit-center\;">Enjoy thoroughbred racing at its finest\, at the historic Saratoga Race Course\, opened over 150 years ago.&nbsp\;</span><span _mce_style="font-size: 14.6667px\;" style="color: rgb(0\, 0\, 0)\; font-family: Tahoma\, Arial\, sans-serif\; font-size: 14.6667px\; text-align: -webkit-center\;">Named one of the world&#39\;s greatest sporting venues by&nbsp\;<em>Sports Illustrated</em>\, the past comes alive in the historic grandstand every summer as fans experience not only the best in racing\, but the unmatched ambience and charm of historic Saratoga Springs.</span><br />\n&nbsp\;</p>\n
LOCATION:Saratoga Race Track Air-Conditioned Pavilion 267 Union Avenue\, Saratoga Springs\, NY 12866
UID:e.1842.1031
SEQUENCE:3
DTSTAMP:20260426T004354Z
URL:http://business.adirondackchamber.org/events/details/chamber-day-at-the-rail-1031
END:VEVENT

END:VCALENDAR
