BEGIN:VCALENDAR
VERSION:2.0
PRODID:-//ChamberMaster//Event Calendar 2.0//EN
METHOD:PUBLISH
X-PUBLISHED-TTL:P3D
REFRESH-INTERVAL:P3D
CALSCALE:GREGORIAN
BEGIN:VEVENT
DTSTART:20190911T130000Z
DTEND:20190911T140000Z
X-MICROSOFT-CDO-ALLDAYEVENT:FALSE
SUMMARY:Chamber 101
DESCRIPTION:The ARCC invites you to come meet the Chamber Team and learn about Chamber Member benefits. This interactive presentation will review benefits\, as well as introduce you to ways to make the most of your Chamber Membership.\n\n\n\nNew\, existing and prospective members are encouraged to come! Please RSVP to Tricia if you plan on coming\, at 518.798.1761 or email.
X-ALT-DESC;FMTTYPE=text/html:<span style="color:#000000\;">The ARCC invites you to come meet the Chamber Team and learn about Chamber Member benefits. This interactive presentation will review benefits\, as well as introduce you to ways to make the most of your Chamber Membership.</span><br />\n<br />\n<strong><span style="color:#000000\;">New\, existing and prospective members are encouraged to come!&nbsp\;Please RSVP to Tricia if you plan on coming\, at 518.798.1761 or </span><a href="mailto:trogers@adirondackchamber.org?subject=Chamber%20101"><span style="color:#0000FF\;">email</span></a>.</strong>
LOCATION:ARCC Office 136 Glen Street\, Suite 3 (Second Floor) Glens Falls\, NY 12801
UID:e.1842.3864
SEQUENCE:3
DTSTAMP:20260422T072549Z
URL:http://business.adirondackchamber.org/events/details/chamber-101-3864
END:VEVENT

END:VCALENDAR
