BEGIN:VCALENDAR
VERSION:2.0
PRODID:-//ChamberMaster//Event Calendar 2.0//EN
METHOD:PUBLISH
X-PUBLISHED-TTL:P3D
REFRESH-INTERVAL:P3D
CALSCALE:GREGORIAN
BEGIN:VEVENT
DTSTART:20190109T140000Z
DTEND:20190109T150000Z
X-MICROSOFT-CDO-ALLDAYEVENT:FALSE
SUMMARY:Chamber 101
DESCRIPTION:The ARCC invites you to come meet the Chamber Team and learn about Chamber Member benefits. This interactive presentation will review benefits\, as well as introduce you to ways to make the most of your Chamber Membership.\n\n\n\nNew\, existing and prospective members are encouraged to come! Please RSVP to Tricia if you plan on coming\, at 518.798.1761 or email.
X-ALT-DESC;FMTTYPE=text/html:The ARCC invites you to come meet the Chamber Team and learn about Chamber Member benefits. This interactive presentation will review benefits\, as well as introduce you to ways to make the most of your Chamber Membership.<br />\n<br />\nNew\, existing and prospective members are encouraged to come! <strong>Please RSVP to Tricia if you plan on coming\, at 518.798.1761 or <a href="mailto:trogers@adirondackchamber.org?subject=ARCC%20Chamber%20101" name="Jennifer Bliss">email</a>.</strong>
LOCATION:ARCC Office 136 Glen Street\, Suite 3 (2nd Floor) Glens Falls\, NY 12801
UID:e.1842.3525
SEQUENCE:3
DTSTAMP:20260424T203508Z
URL:http://business.adirondackchamber.org/events/details/chamber-101-3525
END:VEVENT

END:VCALENDAR
