BEGIN:VCALENDAR
VERSION:2.0
PRODID:-//ChamberMaster//Event Calendar 2.0//EN
METHOD:PUBLISH
X-PUBLISHED-TTL:P3D
REFRESH-INTERVAL:P3D
CALSCALE:GREGORIAN
BEGIN:VEVENT
DTSTART:20181212T140000Z
DTEND:20181212T150000Z
X-MICROSOFT-CDO-ALLDAYEVENT:FALSE
SUMMARY:Chamber 101
DESCRIPTION:Are you curious how to make the most of your Chamber membership? Meet the ARCC team and learn about Chamber Member benefits\, programs and resources that will benefit your business. New\, existing and not-yet members are welcome!
X-ALT-DESC;FMTTYPE=text/html:<span style="color: rgb(51\, 51\, 51)\; font-family: Arial\, Helvetica\, sans-serif\; font-size: 14px\; background-color: rgb(255\, 255\, 255)\;">Are you curious how to make the most of your Chamber membership? Meet the ARCC team and learn about Chamber Member benefits\, programs and resources that will benefit your business. New\, existing and not-yet members are welcome!</span>
LOCATION:136 Glen Street Glens Falls\, NY 12801
UID:e.1842.3509
SEQUENCE:3
DTSTAMP:20260424T222329Z
URL:http://business.adirondackchamber.org/events/details/chamber-101-3509
END:VEVENT

END:VCALENDAR
