BEGIN:VCALENDAR
VERSION:2.0
PRODID:-//ChamberMaster//Event Calendar 2.0//EN
METHOD:PUBLISH
X-PUBLISHED-TTL:P3D
REFRESH-INTERVAL:P3D
CALSCALE:GREGORIAN
BEGIN:VEVENT
DTSTART:20181031T130000Z
DTEND:20181031T140000Z
X-MICROSOFT-CDO-ALLDAYEVENT:FALSE
SUMMARY:Chamber 101
DESCRIPTION:Are you curious how to make the most of your Chamber membership? Meet the ARCC team and learn about Chamber Member benefits\, programs and resources that will benefit your business. New\, existing and not-yet members are welcome!
X-ALT-DESC;FMTTYPE=text/html:<span style="color: rgb(0\, 0\, 0)\; font-family: Arial\, Helvetica\, sans-serif\; font-size: 14px\; font-style: normal\; font-variant-ligatures: normal\; font-variant-caps: normal\; font-weight: 400\; letter-spacing: normal\; orphans: 2\; text-align: left\; text-indent: 0px\; text-transform: none\; white-space: normal\; widows: 2\; word-spacing: 0px\; -webkit-text-stroke-width: 0px\; background-color: rgb(255\, 255\, 255)\; text-decoration-style: initial\; text-decoration-color: initial\; display: inline !important\; float: none\;">Are you curious how to make the most of your Chamber membership? Meet the ARCC team and learn about Chamber Member benefits\, programs and resources that will benefit your business. New\, existing and not-yet members are welcome!</span>
LOCATION:ARCC Office 136 Glen Street\, Suite 3 (2nd floor) Glens Falls\, NY 12801
UID:e.1842.3497
SEQUENCE:3
DTSTAMP:20260425T011511Z
URL:http://business.adirondackchamber.org/events/details/chamber-101-3497
END:VEVENT

END:VCALENDAR
