BEGIN:VCALENDAR
VERSION:2.0
PRODID:-//ChamberMaster//Event Calendar 2.0//EN
METHOD:PUBLISH
X-PUBLISHED-TTL:P3D
REFRESH-INTERVAL:P3D
CALSCALE:GREGORIAN
BEGIN:VEVENT
DTSTART:20180912T130000Z
DTEND:20180912T140000Z
X-MICROSOFT-CDO-ALLDAYEVENT:FALSE
SUMMARY:Chamber 101
DESCRIPTION:Are you curious how to make the most of your Chamber membership? Meet the ARCC team and learn about Chamber Member benefits\, programs and resources that will benefit your business. New\, existing and not-yet members are welcome!
X-ALT-DESC;FMTTYPE=text/html:<span style="color:#000000\;">Are you curious how to make the most of your Chamber membership? Meet the ARCC team and learn about Chamber Member benefits\, programs and resources that will benefit your business. New\, existing and not-yet members are welcome!</span>
LOCATION:ARCC Office 136 Glen Street\, Suite 3 (2nd floor) Glen Falls\, NY 12801
UID:e.1842.3413
SEQUENCE:3
DTSTAMP:20260425T030104Z
URL:http://business.adirondackchamber.org/events/details/chamber-101-3413
END:VEVENT

END:VCALENDAR
