BEGIN:VCALENDAR
VERSION:2.0
PRODID:-//ChamberMaster//Event Calendar 2.0//EN
METHOD:PUBLISH
X-PUBLISHED-TTL:P3D
REFRESH-INTERVAL:P3D
CALSCALE:GREGORIAN
BEGIN:VEVENT
DTSTART:20180214T140000Z
DTEND:20180214T150000Z
X-MICROSOFT-CDO-ALLDAYEVENT:FALSE
SUMMARY:Chamber 101
DESCRIPTION:Are you wondering how to best utilize your Chamber membership? Are you thinking of joining your local Chamber? Everyone is invited to join us for our monthly Chamber 101 session. Meet the ARCC staff and fellow members as you learn about member benefits and ways to connect with other businesses in the region.
X-ALT-DESC;FMTTYPE=text/html:<em>Are you wondering how to best utilize your Chamber membership? Are you thinking of joining your local Chamber?</em> Everyone is invited to join us for our monthly Chamber 101 session. Meet the ARCC staff and fellow members as you learn about member benefits and ways to connect with other businesses in the region.
LOCATION:ARCC Office 136 Glen Street\, Suite 3 (2nd floor) Glens Falls\, NY 12801
UID:e.1842.1116
SEQUENCE:3
DTSTAMP:20260425T141537Z
URL:http://business.adirondackchamber.org/events/details/chamber-101-1116
END:VEVENT

END:VCALENDAR
