BEGIN:VCALENDAR
VERSION:2.0
PRODID:-//ChamberMaster//Event Calendar 2.0//EN
METHOD:PUBLISH
X-PUBLISHED-TTL:P3D
REFRESH-INTERVAL:P3D
CALSCALE:GREGORIAN
BEGIN:VEVENT
DTSTART:20171207T210000Z
DTEND:20171207T220000Z
X-MICROSOFT-CDO-ALLDAYEVENT:FALSE
SUMMARY:Chamber 101
DESCRIPTION:Join fellow ARCC Members and staff for a quick session on Chamber Member benefits. Come as a new member\, or come for a refresh of knowledge. Learn all about the Chamber Member Benefits you may not have taken advantage of yet and then some! ARCC Member Representatives will be able to answer all of your questions.
X-ALT-DESC;FMTTYPE=text/html:Join fellow&nbsp\;ARCC&nbsp\;Members and staff for a quick session on Chamber Member benefits. Come as a new member\, or come for a refresh of knowledge. Learn all about the Chamber Member Benefits you may not have taken advantage of yet and then some!&nbsp\;ARCC&nbsp\;Member Representatives will be able to answer all of your questions.
LOCATION:The Inn at Erlowest 3178 Lake Shore Drive Lake George\, NY 12845
UID:e.1842.1108
SEQUENCE:3
DTSTAMP:20260425T174907Z
URL:http://business.adirondackchamber.org/events/details/chamber-101-1108
END:VEVENT

END:VCALENDAR
