BEGIN:VCALENDAR
VERSION:2.0
PRODID:-//ChamberMaster//Event Calendar 2.0//EN
METHOD:PUBLISH
X-PUBLISHED-TTL:P3D
REFRESH-INTERVAL:P3D
CALSCALE:GREGORIAN
BEGIN:VEVENT
DTSTART:20171116T140000Z
DTEND:20171116T150000Z
X-MICROSOFT-CDO-ALLDAYEVENT:FALSE
SUMMARY:Chamber 101
DESCRIPTION:Join fellow ARCC Members and staff for a quick session on Chamber Member benefits. Come as a new member\, or come for a refresh of knowledge. Learn all about the Chamber Member Benefits you may not have taken advantage of yet and then some! ARCC Member Representatives will be able to answer all of your questions.
X-ALT-DESC;FMTTYPE=text/html:Join fellow ARCC Members and staff for a quick session on Chamber Member benefits. Come as a new member\, or come for a refresh of knowledge. Learn all about the Chamber Member Benefits you may not have taken advantage of yet and then some! ARCC Member Representatives will be able to answer all of your questions.
LOCATION:ARCC Office 136 Glen Street Suite 3 Glens Falls\, NY 12801
UID:e.1842.1087
SEQUENCE:3
DTSTAMP:20260425T191859Z
URL:http://business.adirondackchamber.org/events/details/chamber-101-1087
END:VEVENT

END:VCALENDAR
