BEGIN:VCALENDAR
VERSION:2.0
PRODID:-//ChamberMaster//Event Calendar 2.0//EN
METHOD:PUBLISH
X-PUBLISHED-TTL:P3D
REFRESH-INTERVAL:P3D
CALSCALE:GREGORIAN
BEGIN:VEVENT
DTSTART:20170927T130000Z
DTEND:20170927T140000Z
X-MICROSOFT-CDO-ALLDAYEVENT:FALSE
SUMMARY:Chamber 101
DESCRIPTION:Join fellow ARCC Members and staff for a quick session on Chamber Member benefits. Come as a new member\, or come for a refresh of knowledge. Learn all about the Chamber Member Benefits you may not have taken advantage of yet and then some! ARCC Member Representatives will be able to answer all of your questions.
X-ALT-DESC;FMTTYPE=text/html:<span style="background-color: rgb(255\, 255\, 255)\; color: rgb(68\, 68\, 68)\; font-family: Arial\, Helvetica\, sans-serif\; font-size: 14px\;">Join fellow&nbsp\;</span>ARCC<span style="background-color: rgb(255\, 255\, 255)\; color: rgb(68\, 68\, 68)\; font-family: Arial\, Helvetica\, sans-serif\; font-size: 14px\;">&nbsp\;Members and staff for a quick session on Chamber Member benefits. Come as a new member\, or come for a refresh of knowledge. Learn all about the Chamber Member Benefits you may not have taken advantage of yet and then some!&nbsp\;</span>ARCC<span style="background-color: rgb(255\, 255\, 255)\; color: rgb(68\, 68\, 68)\; font-family: Arial\, Helvetica\, sans-serif\; font-size: 14px\;">&nbsp\;Member Representatives will be able to answer all of your questions.</span>
LOCATION:ARCC Office 136 Glen Street Suite 3 Glens Falls\, NY 12801
UID:e.1842.1085
SEQUENCE:3
DTSTAMP:20260425T230645Z
URL:http://business.adirondackchamber.org/events/details/chamber-101-1085
END:VEVENT

END:VCALENDAR
