BEGIN:VCALENDAR
VERSION:2.0
PRODID:-//ChamberMaster//Event Calendar 2.0//EN
METHOD:PUBLISH
X-PUBLISHED-TTL:P3D
REFRESH-INTERVAL:P3D
CALSCALE:GREGORIAN
BEGIN:VEVENT
DTSTART:20170712T193000Z
DTEND:20170712T203000Z
X-MICROSOFT-CDO-ALLDAYEVENT:FALSE
SUMMARY:Chamber 101
DESCRIPTION:Join fellow ARCC Members and staff for a quick session on Chamber Member benefits. Come as a new member\, or come for a refresh of knowledge. Learn all about the Chamber Member Benefits you may not have taken advantage of yet and then some! ARCC Member Representatives will be able to answer all of your questions.
X-ALT-DESC;FMTTYPE=text/html:<span style="color: rgb(68\, 68\, 68)\; font-family: Arial\, Helvetica\, sans-serif\; font-size: 14px\; font-style: normal\; font-variant-ligatures: normal\; font-variant-caps: normal\; font-weight: normal\; letter-spacing: normal\; orphans: 2\; text-align: left\; text-indent: 0px\; text-transform: none\; white-space: normal\; widows: 2\; word-spacing: 0px\; -webkit-text-stroke-width: 0px\; background-color: rgb(255\, 255\, 255)\; text-decoration-style: initial\; text-decoration-color: initial\; display: inline !important\; float: none\;">Join fellow&nbsp\;ARCC&nbsp\;Members and staff for a quick session on Chamber Member benefits. Come as a new member\, or come for a refresh of knowledge. Learn all about the Chamber Member Benefits you may not have taken advantage of yet and then some!&nbsp\;ARCC&nbsp\;Member Representatives will be able to answer all of your questions.</span>
LOCATION:ARCC Office 136 Glen Street\, Suite 3 (2nd Floor) Glens Falls\, NY 12801
UID:e.1842.1075
SEQUENCE:3
DTSTAMP:20260426T034235Z
URL:http://business.adirondackchamber.org/events/details/chamber-101-1075
END:VEVENT

END:VCALENDAR
