BEGIN:VCALENDAR
VERSION:2.0
PRODID:-//ChamberMaster//Event Calendar 2.0//EN
METHOD:PUBLISH
X-PUBLISHED-TTL:P3D
REFRESH-INTERVAL:P3D
CALSCALE:GREGORIAN
BEGIN:VEVENT
DTSTART:20180911T113000Z
DTEND:20180911T130000Z
X-MICROSOFT-CDO-ALLDAYEVENT:FALSE
SUMMARY:Business Planning Basics
DESCRIPTION:A business plan is essential when starting your own business. It is one of the most valuable tools to assist you in reaching your long-term business goals.\n\n\n\nAt this seminar\, you will discover:\n\n- The anatomy of a business plan\n\n- Tips and best practices for writing a business plan\n\n- Business planning guide\n\n\n\nRegister here.\n\n\n\nThis seminar is brought to you by the Adirondack Business Development Partnership of SUNY Adirondack\, SBDC of New York and the Adirondack Regional Chambers of Commerce.
X-ALT-DESC;FMTTYPE=text/html:A business plan is essential when starting your own business. It is one of the most valuable tools to assist you in reaching your long-term business goals.<br />\n<br />\nAt this seminar\, you will discover:<br />\n- The anatomy of a business plan<br />\n- Tips and best practices for writing a business plan<br />\n- Business planning guide<br />\n<br />\n<span style="font-size:18px\;"><strong>Register <a href="https://www.eventbrite.com/e/business-planning-basics-seminar-tickets-48835242525" target="_blank">here</a>.</strong></span><br />\n<br />\n<em>This seminar is brought to you by the Adirondack Business Development Partnership of SUNY Adirondack\, SBDC of New York and the Adirondack Regional Chambers of Commerce.</em>
LOCATION:Suny Adirondack Center for Entrepreneurship Adirondack Hall\, Room 144 640 Bay Road\, Queensbury\, NY12804
UID:e.1842.3461
SEQUENCE:3
DTSTAMP:20260425T030057Z
URL:http://business.adirondackchamber.org/events/details/business-planning-basics-3461
END:VEVENT

END:VCALENDAR
