BEGIN:VCALENDAR
VERSION:2.0
PRODID:-//ChamberMaster//Event Calendar 2.0//EN
METHOD:PUBLISH
X-PUBLISHED-TTL:P3D
REFRESH-INTERVAL:P3D
CALSCALE:GREGORIAN
BEGIN:VEVENT
DTSTART:20190910T123000Z
DTEND:20190910T160000Z
X-MICROSOFT-CDO-ALLDAYEVENT:FALSE
SUMMARY:Bridges Out of Poverty Community Symposium
DESCRIPTION:3 Hour Community Symposium with AHI and ARCC\n\n\n\nWe all want this beautiful community in which we live to be prosperous and sustainable. This Bridges Out of Poverty Community Symposium introduces concepts that will bring people from all sectors and economic classes together to reduce the social costs of poverty\, strengthen the workforce\, improve outcomes\, and support those who are moving out of poverty. \n\n\n\nTogether we can create a community where all can live well. We will define poverty\, and discuss mental models of economic class\, areas of research\, resources\, and more. This symposium is for people of all economic classes and political persuasions who would like to come together to create a community where all can live well.\n\n \n\nPresenters: \n\nKim Cook\, President and CEO of The Open Door Mission\n\nShelley Smith\, Resource Director of The Open Door Mission
X-ALT-DESC;FMTTYPE=text/html:<span style="color:#000000\;"><u><strong>3 Hour Community Symposium with AHI and ARCC</strong></u><br />\n<br />\nWe all want this beautiful community in which we live to be prosperous and sustainable. This Bridges Out of Poverty Community Symposium introduces concepts that will bring people from all sectors and economic classes together to reduce the social costs of poverty\, strengthen the workforce\, improve outcomes\, and support those who are moving out of poverty.&nbsp\;<br />\n<br />\nTogether we can create a community where all can live well. We will define poverty\, and discuss mental models of economic class\, areas of research\, resources\, and more. This symposium is for people of all economic classes and political persuasions who would like to come together to create a community where all can live well.<br />\n&nbsp\;<br />\n<u><strong>Presenters</strong></u>:&nbsp\;<br />\nKim Cook\, President and CEO of The Open Door Mission<br />\nShelley Smith\, Resource Director of The Open Door Mission &nbsp\;&nbsp\;</span><br />\n&nbsp\;
LOCATION:The Queensbury Hotel 88 Ridge Street Glens Falls\, NY 12801
UID:e.1842.3845
SEQUENCE:3
DTSTAMP:20260422T073611Z
URL:http://business.adirondackchamber.org/events/details/bridges-out-of-poverty-community-symposium-3845
END:VEVENT

END:VCALENDAR
