BEGIN:VCALENDAR
VERSION:2.0
PRODID:-//ChamberMaster//Event Calendar 2.0//EN
METHOD:PUBLISH
X-PUBLISHED-TTL:P3D
REFRESH-INTERVAL:P3D
CALSCALE:GREGORIAN
BEGIN:VEVENT
DTSTART:20220510T130000Z
DTEND:20220510T140000Z
X-MICROSOFT-CDO-ALLDAYEVENT:FALSE
SUMMARY:ARCC Women's Business Council May 2022 Meeting- Meet your Nominees
DESCRIPTION:The ARCC Women's Business Council (WBC) invites you to their May 2022 meeting!\n\n\n\nJoin us for "Meet your Nominees: at Heritage Hall! The recent nominees for the WBC will be on hand to share their ideas and intentions as the hopefuls for the 2022-2023 WBC Executive Committee!
X-ALT-DESC;FMTTYPE=text/html:<div>The ARCC Women&#39\;s Business Council (WBC) invites you to their May&nbsp\;2022&nbsp\;meeting!<br />\n<br />\nJoin us for &quot\;Meet your Nominees:&nbsp\;at Heritage Hall! The recent nominees for the WBC will be on hand to share their ideas and intentions as the hopefuls for the 2022-2023 WBC Executive Committee!&nbsp\;<br />\n<br />\n<br />\n<br />\n<br />\n&nbsp\;</div>\n
LOCATION:Heritage Hall- Cool Insuring Arena 1 Civic Center Plaza Glens Falls\, NY 12801
UID:e.1842.4213
SEQUENCE:3
DTSTAMP:20260420T024539Z
URL:http://business.adirondackchamber.org/events/details/arcc-women-s-business-council-may-2022-meeting-meet-your-nominees-4213
END:VEVENT

END:VCALENDAR
