BEGIN:VCALENDAR
VERSION:2.0
PRODID:-//ChamberMaster//Event Calendar 2.0//EN
METHOD:PUBLISH
X-PUBLISHED-TTL:P3D
REFRESH-INTERVAL:P3D
CALSCALE:GREGORIAN
BEGIN:VEVENT
DTSTART:20220308T140000Z
DTEND:20220308T150000Z
X-MICROSOFT-CDO-ALLDAYEVENT:FALSE
SUMMARY:ARCC Women's Business Council March 2022 Meeting- Opportunities to Serve
DESCRIPTION:The ARCC Women's Business Council (WBC) invites you to their March 2022 meeting!\n\n\n\nJoin us for a panel discussion on Opportunities to Serve the WBC - Nominations Month! \n\n\n\nWBC Leadership will speak to their experience serving in their roles\, and reflect on the last 6 months of meetings and discussions.\n\n\n\n***The ARCC and our event partners will adhere to all current COVID-19 protocols and procedures at the time of any in-person events including CDC and New York State Guidelines***
X-ALT-DESC;FMTTYPE=text/html:<div>The ARCC Women&#39\;s Business Council (WBC) invites you to their March&nbsp\;2022&nbsp\;meeting!<br />\n<br />\nJoin us for a panel discussion on Opportunities to Serve the WBC - Nominations Month!&nbsp\;<br />\n<br />\nWBC Leadership will speak to their experience serving in their roles\, and reflect on the last 6 months of meetings and discussions.<br />\n<br />\n<span style="font-size:16px\;"><strong><em><span style="color:#C00000\;"><span style="font-family:georgia\,serif\;">***The ARCC and our event partners will adhere to all current COVID-19 protocols and procedures at the time of any in-person events including CDC and New York State Guidelines*** </span></span></em></strong></span><br />\n&nbsp\;</div>\n
LOCATION:Sandy Hill Arts Center 214 Main Street Hudson Falls\, NY 12839
UID:e.1842.4177
SEQUENCE:3
DTSTAMP:20260420T055740Z
URL:http://business.adirondackchamber.org/events/details/arcc-women-s-business-council-march-2022-meeting-opportunities-to-serve-4177
END:VEVENT

END:VCALENDAR
