BEGIN:VCALENDAR
VERSION:2.0
PRODID:-//ChamberMaster//Event Calendar 2.0//EN
METHOD:PUBLISH
X-PUBLISHED-TTL:P3D
REFRESH-INTERVAL:P3D
CALSCALE:GREGORIAN
BEGIN:VEVENT
DTSTART:20240409T130000Z
DTEND:20240409T140000Z
X-MICROSOFT-CDO-ALLDAYEVENT:FALSE
SUMMARY:ARCC Women's Business Council April 2024 Meeting
DESCRIPTION:The ARCC Women's Business Council (WBC) invites you to their April 2024 meeting! Join us for an inspiring morning of connection and collaboration!
X-ALT-DESC;FMTTYPE=text/html:The ARCC Women&#39\;s Business Council (WBC) invites you to their April 2024&nbsp\;meeting! Join us for an inspiring morning of connection and collaboration!&nbsp\;<br />\n<br />\n<br />\n<br />\n<br />\n<br />\n<br />\n<br />\n&nbsp\;
LOCATION:Airway Meadows Golf Club Clubhouse Tavern 262 Brownville Rd Gansevoort\, NY 12831 Guests should enter the building on the side that faces the golf course. www.airwaymeadowsgolf.com
UID:e.1842.4505
SEQUENCE:3
DTSTAMP:20260420T084246Z
URL:http://business.adirondackchamber.org/events/details/arcc-women-s-business-council-april-2024-meeting-4505
END:VEVENT

END:VCALENDAR
