BEGIN:VCALENDAR
VERSION:2.0
PRODID:-//ChamberMaster//Event Calendar 2.0//EN
METHOD:PUBLISH
X-PUBLISHED-TTL:P3D
REFRESH-INTERVAL:P3D
CALSCALE:GREGORIAN
BEGIN:VEVENT
DTSTART:20190201T220000Z
DTEND:20190202T000000Z
X-MICROSOFT-CDO-ALLDAYEVENT:FALSE
SUMMARY:ARCC Member Appreciation Night with the Adirondack Thunder
DESCRIPTION:The ARCC has partnered with the Adirondack Thunder and Cool Insuring Arena for a Chamber Member Appreciation Night\n\n\n\nJoin us for a fun\, casual get-together before the Adirondack Thunder game against the Reading Royals\, then stay for the game and route for your hockey team!\n\n\n\nFood will be provided by our friends at Outback Steakhouse and a cash bar will be available.\n\n\n\nBring your family and enjoy a Friday night out with your Chamber friends!*\n\n\n\n*Cost is $15 per person and includes admission to event\, food (provided by Outback Steakhouse) and a hockey ticket for the 2/1/19 game against the Reading Royals. Tickets and wristbands (needed to enter event) will be available at Will Call at the Cool Insuring Arena\, beginning on Friday\, January 25\, 2019.
X-ALT-DESC;FMTTYPE=text/html:<strong>The ARCC has partnered with the Adirondack Thunder and Cool Insuring Arena for a Chamber Member Appreciation Night</strong><br />\n<br />\nJoin us for a fun\, casual get-together before the Adirondack Thunder game against the Reading Royals\, then stay for the game and route for your hockey team!<br />\n<br />\nFood will be provided by our friends at Outback Steakhouse and a cash bar will be available.<br />\n<br />\nBring your family and enjoy a Friday night out with your Chamber friends!*<br />\n<br />\n<em>*Cost is $15 per person and includes admission to event\, food (provided by Outback Steakhouse) and a hockey ticket for the 2/1/19 game against the Reading Royals. Tickets and wristbands (needed to enter event) will be available at Will Call at the Cool Insuring Arena\, beginning on Friday\, January 25\, 2019.</em>
LOCATION:Heritage Hall in the Cool Insuring Arena 1 Civic Center Plaza Glens Falls\, NY 12801
UID:e.1842.3530
SEQUENCE:3
DTSTAMP:20260424T183550Z
URL:http://business.adirondackchamber.org/events/details/arcc-member-appreciation-night-with-the-adirondack-thunder-3530
END:VEVENT

END:VCALENDAR
