BEGIN:VCALENDAR
VERSION:2.0
PRODID:-//ChamberMaster//Event Calendar 2.0//EN
METHOD:PUBLISH
X-PUBLISHED-TTL:P3D
REFRESH-INTERVAL:P3D
CALSCALE:GREGORIAN
BEGIN:VEVENT
DTSTART:20180227T141500Z
DTEND:20180227T153000Z
X-MICROSOFT-CDO-ALLDAYEVENT:FALSE
SUMMARY:ARCC Medicare Seminar with Cool Insuring Agency
DESCRIPTION:Join us for a 30-minute educational seminar\, presented by Stephen Porto of Cool Insuring Agency\, on Medicare for both HR professionals and Medicare eligible individuals. Topics to include: Medicare Parts A\, B\, C & D\; Medicare during employment\; election periods\; coverage options\, extra help programs and helpful resources. There will be time for group and personal Q&A afterwards.\n\n\n\nAbout the presenter: Stephen Porto is a Medicare and employee benefits Account Executive at Cool Insuring Agency\, managing over 1\,000 client policies and associated with all major carriers.
X-ALT-DESC;FMTTYPE=text/html:<span style="color:#000000\;">Join us for a 30-minute educational seminar\, presented by Stephen Porto of Cool Insuring Agency\, on Medicare for both HR professionals and Medicare eligible individuals.&nbsp\;Topics to include: Medicare Parts A\, B\, C &amp\; D\; Medicare during employment\; election periods\; coverage options\, extra help programs and helpful resources.&nbsp\;There will be time for group and personal Q&amp\;A afterwards.<br />\n<br />\n<span style="font-family: calibri\, sans-serif\;"><span style="font-size: 11pt\;"><strong>About the presenter</strong>: Stephen Porto is a Medicare and employee benefits Account Executive at Cool Insuring Agency\, managing over 1\,000 client policies and associated with all major carriers.</span></span></span>
LOCATION:Crandall Public Library Community Room 251 Glen Street\, Glens Falls\, NY 12801
UID:e.1842.1136
SEQUENCE:3
DTSTAMP:20260425T135222Z
URL:http://business.adirondackchamber.org/events/details/arcc-medicare-seminar-with-cool-insuring-agency-1136
END:VEVENT

END:VCALENDAR
