BEGIN:VCALENDAR
VERSION:2.0
PRODID:-//ChamberMaster//Event Calendar 2.0//EN
METHOD:PUBLISH
X-PUBLISHED-TTL:P3D
REFRESH-INTERVAL:P3D
CALSCALE:GREGORIAN
BEGIN:VEVENT
DTSTART:20190227T163000Z
DTEND:20190227T183000Z
X-MICROSOFT-CDO-ALLDAYEVENT:FALSE
SUMMARY:ARCC Heroin Summit
DESCRIPTION:Join us for a Lunch & Learn to bring awareness\, to the business community\, of the challenges of heroin use in our region. This panel discussion will focus on where we've been\, where we are and where we are going with these challenges. In addition we will discuss how heroin affects our businesses and how our business community can be a part of the solution.\n\n \n\nPanel Participants:\n\n\n	Washington County District Attorney Tony Jordan\n	Washington County Sheriff Jeff Murphy\n	Warren County District Attorney Jason Carusone\n	Warren County UnderSheriff Shawn Lamouree\n	Saratoga County District Attorney Karen Haggen\n	Saratoga County Sheriff Michael Zurlo\n	Judy Moffitt\, South Glens Falls
X-ALT-DESC;FMTTYPE=text/html:<div>Join us for a Lunch &amp\; Learn to bring awareness\, to the business community\, of the challenges of heroin use in our region. This panel discussion will focus on where we&#39\;ve been\, where we are and where we are going with these challenges. In addition we will discuss how heroin affects our businesses and how our business community can be a part of the solution.</div>\n\n<div>&nbsp\;</div>\n\n<div><strong>Panel Participants</strong>:</div>\n\n<ul>\n	<li>Washington County District Attorney Tony Jordan</li>\n	<li>Washington County Sheriff Jeff Murphy</li>\n	<li>Warren County District Attorney Jason Carusone</li>\n	<li>Warren County UnderSheriff Shawn Lamouree</li>\n	<li>Saratoga County District Attorney Karen Haggen</li>\n	<li>Saratoga County Sheriff Michael Zurlo</li>\n	<li>Judy Moffitt\, South Glens Falls</li>\n</ul>\n
LOCATION:The Queensbury Hotel 88 Ridge Street\, Glens Falls\, NY 12801
UID:e.1842.3614
SEQUENCE:3
DTSTAMP:20260424T183339Z
URL:http://business.adirondackchamber.org/events/details/arcc-heroin-summit-3614
END:VEVENT

END:VCALENDAR
