BEGIN:VCALENDAR
VERSION:2.0
PRODID:-//ChamberMaster//Event Calendar 2.0//EN
METHOD:PUBLISH
X-PUBLISHED-TTL:P3D
REFRESH-INTERVAL:P3D
CALSCALE:GREGORIAN
BEGIN:VEVENT
DTSTART:20210427T190000Z
DTEND:20210427T200000Z
X-MICROSOFT-CDO-ALLDAYEVENT:FALSE
SUMMARY:ARCC Health & Wellness Council presents: Human Trafficking Awareness
DESCRIPTION:The ARCC Health & Wellness Council invites you to a special presentation on Human Trafficking Awareness.\n\n\n\nDid you know that New York has one of the worst human trafficking problems in the country and consistently ranks as one of the worst 4 states for human trafficking? Although alarming\, it is also important for us to realize the impact of human trafficking in our region.\n\n\n\nBrandi Kirby\, a Safe Harbour Coordinator with the WAIT House\, will present on direct services that are available to youth who have been exploited\, or are at risk for human trafficking.
X-ALT-DESC;FMTTYPE=text/html:The ARCC Health &amp\; Wellness Council invites you to a special presentation on Human Trafficking Awareness.<br />\n<br />\nDid you know that New York has one of the worst human trafficking problems in the country and consistently ranks as one of the worst 4 states for human trafficking? Although alarming\, it is also important for us to realize the impact of human trafficking in our region.<br />\n<br />\nBrandi Kirby\, a Safe Harbour Coordinator with the WAIT House\, will present on direct services that are available to youth who have been exploited\, or are at risk for human trafficking.
LOCATION:Virtual via Zoom
UID:e.1842.4096
SEQUENCE:3
DTSTAMP:20260420T231303Z
URL:http://business.adirondackchamber.org/events/details/arcc-health-wellness-council-presents-human-trafficking-awareness-4096
END:VEVENT

END:VCALENDAR
