BEGIN:VCALENDAR
VERSION:2.0
PRODID:-//ChamberMaster//Event Calendar 2.0//EN
METHOD:PUBLISH
X-PUBLISHED-TTL:P3D
REFRESH-INTERVAL:P3D
CALSCALE:GREGORIAN
BEGIN:VEVENT
DTSTART:20230216T183000Z
DTEND:20230216T220000Z
X-MICROSOFT-CDO-ALLDAYEVENT:FALSE
SUMMARY:ARCC February 2023 "Get Moving" Snowshoe Mixer at Garnet Hill Lodge
DESCRIPTION:Get Moving with a Snowshoe Tour &  Mixer event with the ARCC at Garnet Hill Lodge! \n\nSpace is Limited for the Snowshoe Tour-- BOOK EARLY!!\n\n\nEnjoy a guided snowshoe tour before heading back to the lodge for drink specials\, food samples and some of the best views the Adirondacks have to offer from the newly updated Garnet Hill Lodge! \n\n	Cash & Carry Bar\n	50/50 Raffle (Cash Only!)\n	Resort Tours Available - check out the renovated lodge!\n\n\n\nWe'll see you there! \n\n\n\nSnowshoe & Mixer: Snowshoe 1:30pm -3 pm/ Mixer 3 pm- 5 pm - Meet at Outdoor Ski Center\n\n*fee includes snow shoe rental if needed & guided tour of the Hooper Mine Trail\n\n\n\nSnowshoe & Mixer Member Fee  - $25 \n\nSnowshoe & Mixer Not-Yet- Member Fee - $35\n\n\n\nAbout the Snowshoe Trail:\n\nHooper Mine   a short (0.7 mile round-trip) but challenging climb up to the old garnet mine with wonderful views of the area.\n\n\n\nMixer Only: (3pm- 5 pm)- Lodge\n\n\n\nMixer Only  Member Fee - $15\n\nMixer Only Not-Yet-Member Fee - $25
X-ALT-DESC;FMTTYPE=text/html:<div style="text-align: center\;"><strong>Get Moving with a Snowshoe Tour &amp\;&nbsp\; Mixer event with the ARCC at Garnet Hill Lodge!&nbsp\;</strong></div>\n\n<div style="text-align: center\;"><strong><span style="color:#FF0000\;">Space is Limited for the Snowshoe Tour-- BOOK EARLY!!</span></strong></div>\n<br />\nEnjoy a guided snowshoe tour before heading back to the lodge for drink specials\, food samples and some of the best views the Adirondacks have to offer from the newly updated Garnet Hill Lodge!&nbsp\;\n<ul>\n	<li>Cash &amp\; Carry Bar</li>\n	<li>50/50 Raffle (Cash Only!)</li>\n	<li>Resort Tours Available - check out the renovated lodge!</li>\n</ul>\n<br />\nWe&#39\;ll see you there!&nbsp\;<br />\n<br />\n<u><strong>Snowshoe &amp\; Mixer:&nbsp\;Snowshoe 1:30pm -3 pm/ Mixer 3 pm- 5 pm - Meet at Outdoor Ski Center</strong></u><br />\n<em><strong>*fee includes snow shoe rental if needed &amp\; guided tour of the Hooper Mine Trail</strong></em><br />\n<br />\n<span style="font-size:14px\;"><strong><span style="color:#008080\;">Snowshoe &amp\; Mixer Member Fee&nbsp\; - $25&nbsp\;<br />\nSnowshoe &amp\; Mixer Not-Yet- Member Fee - $35<br />\n<br />\nAbout the Snowshoe Trail:</span></strong></span><br />\n<em><strong><a href="https://www.garnet-hill.com/outdoor-center/winter-sports/snowshoeing/" target="_blank">Hooper Mine</a></strong>&nbsp\;&ndash\; a short (0.7 mile round-trip) but challenging climb up to the old garnet mine with wonderful views of the area.</em><br />\n<br />\n<u><strong>Mixer Only:&nbsp\;(3pm- 5 pm)- Lodge</strong></u><br />\n<br />\n<span style="font-size:14px\;"><strong><span style="color:#0000CD\;">Mixer Only&nbsp\; Member Fee - $15<br />\nMixer Only Not-Yet-Member Fee - $25</span></strong></span><br />\n<br />\n<br />\n<br />\n&nbsp\;
LOCATION:Garnet Hill Lodge 39 Garnet Hill Road North River\, NY 12856
UID:e.1842.4202
SEQUENCE:3
DTSTAMP:20260419T121616Z
URL:http://business.adirondackchamber.org/events/details/arcc-february-2023-get-moving-snowshoe-mixer-at-garnet-hill-lodge-4202
END:VEVENT

END:VCALENDAR
