BEGIN:VCALENDAR
VERSION:2.0
PRODID:-//ChamberMaster//Event Calendar 2.0//EN
METHOD:PUBLISH
X-PUBLISHED-TTL:P3D
REFRESH-INTERVAL:P3D
CALSCALE:GREGORIAN
BEGIN:VEVENT
DTSTART:20220217T183000Z
DTEND:20220217T220000Z
X-MICROSOFT-CDO-ALLDAYEVENT:FALSE
SUMMARY:ARCC February 2022 "Get Moving" Snowshoe Mixer at Garnet Hill Lodge
DESCRIPTION:*** UPDATE: It is with regret we report that the Snowshoe Tour portion of our "Get Moving" mixer on Thursday February 17\, 2022 from 1 pm   3 pm has been cancelled due to an unfavorable weather forecast that would make for unsafe and unpleasant conditions.\n\n\n\n\n\nThe mixer in Garnet Hill Lodge is still on from 3 pm   5 pm and we look forward to seeing you there!\n\n \n\n\n\n\nJoin us in the Garnet Hill Lodge for drink specials\, food samples and some of the best views the Adirondacks have to offer from the newly updated Garnet Hill Lodge! \n\n\n	Cash & Carry Bar\n	50/50 Raffle (Cash Only!)\n	Resort Tours Available - check out the newly renovated lodge!\n\n\n\nWe'll see you there! \n\n\n\nMixer  (3pm- 5 pm)- Lodge\n\n\n\nMixer Only  Member Fee - $10\n\nMixer Only Not-Yet-Member Fee - $20
X-ALT-DESC;FMTTYPE=text/html:<span style="font-family:arial\,sans-serif\;"><span style="font-size:10.0pt\;"><strong><span style="color:#B22222\;">*** UPDATE</span></strong>:<em> It is with regret we report that the Snowshoe Tour portion of our &ldquo\;Get Moving&rdquo\; mixer on Thursday February 17\, 2022 from 1 pm &ndash\; 3 pm has been cancelled due to an unfavorable weather forecast that would make for unsafe and unpleasant conditions.</em><br />\n<br />\n<br />\n<span style="font-size:18px\;"><strong>The mixer in Garnet Hill Lodge is still on from 3 pm &ndash\; 5 pm and we look forward to seeing you there!</strong></span></span></span><br />\n&nbsp\;\n<div style="text-align: center\;"><br />\n<br />\n<span style="color: rgb(0\, 0\, 0)\;">Join us in the Garnet Hill Lodge for drink specials\, food samples and some of the best views the Adirondacks have to offer from the newly updated Garnet Hill Lodge!&nbsp\;</span></div>\n\n<ul>\n	<li><span style="color:#000000\;">Cash &amp\; Carry Bar</span></li>\n	<li><span style="color:#000000\;">50/50 Raffle (Cash Only!)</span></li>\n	<li><span style="color:#000000\;"><font color="#000000">Resort Tours Available - check out the newly renovated lodge!</font></span></li>\n</ul>\n<br />\n<span style="color:#000000\;">We&#39\;ll see you there!&nbsp\;</span><br />\n<br />\n<span style="font-size:14px\;"><strong><u>Mixer&nbsp\;&nbsp\;</u></strong></span><u><strong background-color:="" font-size:="" style="color: rgb(51\, 51\, 51)\; font-family: sans-serif\, Arial\, Verdana\, " trebuchet="">(3pm- 5 pm)- Lodge</strong></u><br />\n<br />\n<span style="font-size:14px\;"><strong><span style="color:#0000CD\;">Mixer Only&nbsp\; Member Fee - $10<br />\nMixer Only Not-Yet-Member Fee - $20</span></strong></span><br />\n<br />\n<br />\n<br />\n&nbsp\;
LOCATION:Garnet Hill Lodge 39 Garnet Hill Road North River\, NY 12856
UID:e.1842.4185
SEQUENCE:3
DTSTAMP:20260420T071927Z
URL:http://business.adirondackchamber.org/events/details/arcc-february-2022-get-moving-snowshoe-mixer-at-garnet-hill-lodge-4185
END:VEVENT

END:VCALENDAR
