BEGIN:VCALENDAR
VERSION:2.0
PRODID:-//ChamberMaster//Event Calendar 2.0//EN
METHOD:PUBLISH
X-PUBLISHED-TTL:P3D
REFRESH-INTERVAL:P3D
CALSCALE:GREGORIAN
BEGIN:VEVENT
DTSTART:20210121T190000Z
DTEND:20210121T203000Z
X-MICROSOFT-CDO-ALLDAYEVENT:FALSE
SUMMARY:ARCC COVID-19 Vaccine Panel Discussion
DESCRIPTION:The COVID-19 Vaccine has been developed and is being administered in our region. Join the ARCC as we have a virtual discussion on the vaccine\, with medical professionals from Glens Falls Hospital and Hudson Headwaters Health Network\, as well as the Director of Public Health for Warren County.\n\n \nThis discussion will feature the following panelists: \n\n\n	Christopher R. Mason\, DO\, Hematology/Oncology (Board Certified)\, President\, Glens Falls Hospital Medical Staff\n	William Borgos\, M.D.\, Chief Medical Officer\, Hudson Headwaters Health Network\n	Ginelle Jones\, Director of Public Health\, Warren County\n\n\n\nZoom info for this event:\n\nTopic: COVID-19 Vaccine Update - Adirondack Regional Chamber of Commerce\n\nTime: Jan 21\, 2021 02:00 PM Eastern Time (US and Canada)\n\nJoin Zoom Meeting\n\nhttps://us02web.zoom.us/j/88688272331?pwd=SmxBaGs4RlNRR3lDRFQ0Q2F2S2pVUT09\n\n \n\nMeeting ID: 886 8827 2331\n\nPasscode: 244172\n\nOne tap mobile\n\n+16468769923\,\,88688272331# US (New York)
X-ALT-DESC;FMTTYPE=text/html:The COVID-19 Vaccine has been developed and is being administered in our region. Join the ARCC as we have a virtual discussion on the vaccine\, with medical professionals from Glens Falls Hospital and Hudson Headwaters Health Network\, as well as the Director of Public Health for Warren County.<br />\n&nbsp\;\n<div><strong>This discussion will feature the following panelists: </strong></div>\n\n<ul>\n	<li>Christopher R. Mason\, DO\, Hematology/Oncology (Board Certified)\, President\, <a href="http://r20.rs6.net/tn.jsp?f=001av0qv50Q3FJfXfM8AZk0xOd3BOJrUruqyBtliY19txn9fn2H38cGkw-8G6batEsanv_CdIb_M0_fqGkjUQ_8MFWQxjdLGve8fdVzi742qIqDsT401KSThbElAMwoZyWiiP5dH0T9aNGohBZC4viHC3LTnPR2xOjS&amp\;c=cusNNrBtsM2uQTLMkffe4UQ9X_GHzPn9cDxljBG07QvISLrmlivNPw==&amp\;ch=UIkuiXJBFJS_C-QHsxU00IaGfepMkVdBIXYd9PupaBPXOVy1wEZy-w==" rel="noopener noreferrer" target="_blank">Glens Falls Hospital</a> Medical Staff</li>\n	<li>William Borgos\, M.D.\, Chief Medical Officer\, <a href="http://r20.rs6.net/tn.jsp?f=001av0qv50Q3FJfXfM8AZk0xOd3BOJrUruqyBtliY19txn9fn2H38cGk3iVaGiAj_iQrgCHDCEu00L-BsZ14uoxu7hK2dUUFvZv9o3TRej0EFhTD349D9IghAkSuslZyjtPHsjssE4ZRIg=&amp\;c=cusNNrBtsM2uQTLMkffe4UQ9X_GHzPn9cDxljBG07QvISLrmlivNPw==&amp\;ch=UIkuiXJBFJS_C-QHsxU00IaGfepMkVdBIXYd9PupaBPXOVy1wEZy-w==" rel="noopener noreferrer" target="_blank">Hudson Headwaters Health Network</a></li>\n	<li>Ginelle Jones\, Director of Public Health\, <a href="https://warrencountyny.gov/" target="_blank">Warren County</a></li>\n</ul>\n<br />\n<strong>Zoom info for this event:</strong><br />\nTopic: COVID-19 Vaccine Update - Adirondack Regional Chamber of Commerce<br />\nTime: Jan 21\, 2021 02:00 PM Eastern Time (US and Canada)<br />\n<strong>Join Zoom Meeting</strong><br />\n<a href="https://us02web.zoom.us/j/88688272331?pwd=SmxBaGs4RlNRR3lDRFQ0Q2F2S2pVUT09">https://us02web.zoom.us/j/88688272331?pwd=SmxBaGs4RlNRR3lDRFQ0Q2F2S2pVUT09</a><br />\n&nbsp\;<br />\n<strong>Meeting ID: 886 8827 2331<br />\nPasscode: 244172</strong><br />\nOne tap mobile<br />\n+16468769923\,\,88688272331# US (New York)
LOCATION:Virtual via Zoom
UID:e.1842.4021
SEQUENCE:3
DTSTAMP:20260421T035613Z
URL:http://business.adirondackchamber.org/events/details/arcc-covid-19-vaccine-panel-discussion-4021
END:VEVENT

END:VCALENDAR
