BEGIN:VCALENDAR
VERSION:2.0
PRODID:-//ChamberMaster//Event Calendar 2.0//EN
METHOD:PUBLISH
X-PUBLISHED-TTL:P3D
REFRESH-INTERVAL:P3D
CALSCALE:GREGORIAN
BEGIN:VEVENT
DTSTART:20220504T130000Z
DTEND:20220504T140000Z
X-MICROSOFT-CDO-ALLDAYEVENT:FALSE
SUMMARY:ARCC Chamber 101
DESCRIPTION:Join the ARCC for our monthly Chamber 101. This interactive discussion will show you how to better utilize your Chamber membership. ARCC Marketing Director Amanda Blanton\, and Membership Director Tricia Rogers will go over membership benefits that you may not be aware of\, or simply forgot!\n\n\n\nNew\, prospective\, and current members are encouraged to attend.
X-ALT-DESC;FMTTYPE=text/html:<div>Join the ARCC for our monthly Chamber 101. This interactive discussion will show you how to better utilize your Chamber membership. ARCC Marketing Director Amanda Blanton\, and Membership Director Tricia Rogers will go over membership benefits that you may not be aware of\, or simply forgot!<br />\n<br />\n<em><strong>New\, prospective\, and current members are encouraged to attend.</strong></em></div>\n
LOCATION:ARCC Office Boardroom 68 Warren Street Glens Falls\, NY 12801
UID:e.1842.4221
SEQUENCE:3
DTSTAMP:20260420T022430Z
URL:http://business.adirondackchamber.org/events/details/arcc-chamber-101-4221
END:VEVENT

END:VCALENDAR
