BEGIN:VCALENDAR
VERSION:2.0
PRODID:-//ChamberMaster//Event Calendar 2.0//EN
METHOD:PUBLISH
X-PUBLISHED-TTL:P3D
REFRESH-INTERVAL:P3D
CALSCALE:GREGORIAN
BEGIN:VEVENT
DTSTART:20210210T140000Z
DTEND:20210210T150000Z
X-MICROSOFT-CDO-ALLDAYEVENT:FALSE
SUMMARY:ARCC Chamber 101
DESCRIPTION:Thinking of joining the ARCC? Are you a new or existing member looking to get more out of your membership? Join ARCC Marketing Director Amanda Blanton\, and ARCC Membership Director Tricia Rogers for our Chamber 101!\n\n\n\nThis virtual informal presentation will give you ideas on how to better utilize your Chamber membership.
X-ALT-DESC;FMTTYPE=text/html:<em>Thinking of joining the ARCC? Are you a new or existing member looking to get more out of your membership? </em>Join ARCC Marketing Director Amanda Blanton\, and ARCC Membership Director Tricia Rogers for our Chamber 101!<br />\n<br />\nThis virtual informal presentation will give you ideas on how to better utilize your Chamber membership.
LOCATION:Virtual via Zoom A link will be emailed to you.
UID:e.1842.4014
SEQUENCE:3
DTSTAMP:20260421T022222Z
URL:http://business.adirondackchamber.org/events/details/arcc-chamber-101-4014
END:VEVENT

END:VCALENDAR
