BEGIN:VCALENDAR
VERSION:2.0
PRODID:-//ChamberMaster//Event Calendar 2.0//EN
METHOD:PUBLISH
X-PUBLISHED-TTL:P3D
REFRESH-INTERVAL:P3D
CALSCALE:GREGORIAN
BEGIN:VEVENT
DTSTART:20170607T113000Z
DTEND:20170607T133000Z
X-MICROSOFT-CDO-ALLDAYEVENT:FALSE
SUMMARY:ARCC Business of the Year Awards Breakfast
DESCRIPTION:Please join The Adirondack Business Council\, in partnership with the ARCC\, for a celebratory breakfast awards ceremony to congratulate and support this year's business nominees and award winners.\n\n\n\nDuring this esteemed event\, deserving Chamber members\, are recognized for their achievements in business\, their commitments to community\, the quality of life contributions they have made in the region\, as well as the health & wellness best practices they support.\n\n \n\nIt's a great way to start your day. \n\nThe nominees have been selected. Click here to view.\n\n\n\nSponsorship opportunities are available. Contact Jane Badger for details at jbadger@adirondackchamber.org.
X-ALT-DESC;FMTTYPE=text/html:<p><span style="font-family:tahoma\;">Please join The Adirondack Business Council\, in partnership with the ARCC\, for a celebratory breakfast awards ceremony to congratulate and support this year&#39\;s business nominees and award winners.<br />\n<br />\nDuring this esteemed event\, deserving Chamber members\, are recognized for their achievements in business\, their commitments to community\, the quality of life contributions they have made in the region\, as well as the health &amp\; wellness best practices they support.</span><br />\n&nbsp\;</p>\n\n<p><span style="font-family:tahoma\;"><span style="font-size:14px\;"><strong>It&#39\;s a great way to start your day. </strong></span></span></p>\n\n<p><span style="font-family:tahoma\;"><strong style="color: rgb(0\, 0\, 0)\; font-family: Tahoma\, Arial\, sans-serif\; font-size: 14.6667px\;">The nominees have been selected. <a href="https://chambermaster.blob.core.windows.net/userfiles/UserFiles/chambers/1842/File/ABCandARCCAnnounceBusinessoftheYearNominees.pdf">Click here to view</a>.</strong><br />\n<br />\n<span style="font-size:14px\;"><strong>Sponsorship opportunities are available. Contact Jane Badger for details at <a href="mailto:jbadger@adirondackchamber.org?subject=Business%20of%20the%20Year%20Awards%20Sponsorship">jbadger@adirondackchamber.org</a>.</strong></span></span></p>\n
LOCATION:Hiland Park Country Club 195 Haviland Road Queensbury\, NY
UID:e.1842.1020
SEQUENCE:3
DTSTAMP:20260426T035255Z
URL:http://business.adirondackchamber.org/events/details/arcc-business-of-the-year-awards-breakfast-1020
END:VEVENT

END:VCALENDAR
