BEGIN:VCALENDAR
VERSION:2.0
PRODID:-//ChamberMaster//Event Calendar 2.0//EN
METHOD:PUBLISH
X-PUBLISHED-TTL:P3D
REFRESH-INTERVAL:P3D
CALSCALE:GREGORIAN
BEGIN:VEVENT
DTSTART:20190326T113000Z
DTEND:20190326T133000Z
X-MICROSOFT-CDO-ALLDAYEVENT:FALSE
SUMMARY:ARCC 2019 Insurance Program Updates
DESCRIPTION:Upstate Agency is hosting an informational seminar to update ARCC Members on the offered health insurance programs through the Chamber. Insurance carriers will be giving brief presentations on added value services\, such as wellness programs. In addition\, they will be answering questions on open enrollment.\n\n\n\nThe following carriers will be present:\n\n	BSNENY\n	CDPHP\n	Empire\n	Guardian\n	MVP\n	Upstate Agency to discuss MetLife benefit
X-ALT-DESC;FMTTYPE=text/html:<span style="color:#000000\;">Upstate Agency is hosting an informational seminar to update ARCC Members on the offered health insurance programs through the Chamber. Insurance carriers will be giving brief presentations on added value services\, such as wellness programs. In addition\, they will be answering questions on open enrollment.<br />\n<br />\nThe following carriers will be present:</span>\n<ul>\n	<li><span style="color:#000000\;">BSNENY</span></li>\n	<li><span style="color:#000000\;">CDPHP</span></li>\n	<li><span style="color:#000000\;">Empire</span></li>\n	<li><span style="color:#000000\;">Guardian</span></li>\n	<li><span style="color:#000000\;">MVP</span></li>\n	<li><span style="color:#000000\;">Upstate Agency to discuss MetLife benefit</span></li>\n</ul>\n<br />\n&nbsp\;
LOCATION:The Queensbury Hotel 88 Ridge Street Glens Falls\, NY 12801
UID:e.1842.3656
SEQUENCE:3
DTSTAMP:20260424T183144Z
URL:http://business.adirondackchamber.org/events/details/arcc-2019-insurance-program-updates-3656
END:VEVENT

END:VCALENDAR
