BEGIN:VCALENDAR
VERSION:2.0
PRODID:-//ChamberMaster//Event Calendar 2.0//EN
METHOD:PUBLISH
X-PUBLISHED-TTL:P3D
REFRESH-INTERVAL:P3D
CALSCALE:GREGORIAN
BEGIN:VEVENT
DTSTART:20190327T113000Z
DTEND:20190327T140000Z
X-MICROSOFT-CDO-ALLDAYEVENT:FALSE
SUMMARY:ANBC Peer 2 Peer Workshop - Track 2
DESCRIPTION:The Adirondack Nonprofit Business Council (ANBC) is hosting their annual Peer 2 Peer workshops on the morning of Wednesday\, March 27th at The Queensbury Hotel. Regional nonprofits are encouraged to come learn and connect with other nonprofits on important topics. This event features two "tracks" going on simultaneously\, followed by a presentation on what every employer needs to know to comply with new harassment regulations.\n\n\n\nTrack 2 - "I Follow the Data" - Donor Tracking & Database Analytics\, presented by Michelle Chandler\, Crandall Public Library\n\n \n\nMichelle Chandler is the Development Director for Crandall Public Library. She has been with Crandall since June of 2018. She will be discussing donor tracking and database analytics. \n\n \n\nMichelle holds a B.A. in psychology from Bay Path University\, as well as a Master's degree in Social Work from Boston University. Michelle started her fundraising career in 2007 as a Development Intern for a Child Welfare agency in Boston\, MA.\n\n\n\n\n\nThere's a New Law in Town: What Every Employer Needs to Know to Comply with New Harassment Regulations - presented by Gail Hamel\, Hamel Resources\n\n\n\nDid you know that all New York employers were required to have a Sexual Harassment policy in place as of October 2018? Do you know that all New York employers are required to provide annual Sexual Harassment training to all staff to begin no later than October 2019?\n\n \n\nThis session will provide participants with information to help ensure that they recognize the significance of new regulations and how to comply.\n\n \n\nThe following areas will be covered:\n\n      Understanding what is happening and why it is happening\n\n      Everything an organization needs to know to avoid liabilities \n\n      What must to be included in Sexual Harassment policies\n\n      Requirements for training\n\n      Resources
X-ALT-DESC;FMTTYPE=text/html:<div>The Adirondack Nonprofit Business Council (ANBC) is hosting their annual Peer 2 Peer workshops on the morning of Wednesday\, March 27th at The Queensbury Hotel. Regional nonprofits are encouraged to come learn and connect with other nonprofits on important topics. This event features two &quot\;tracks&quot\; going on simultaneously\, followed by a presentation on what every employer needs to know to comply with new harassment regulations.</div>\n\n<div><br />\n<strong>Track 2 - &quot\;I Follow the Data&quot\; - Donor Tracking &amp\; Database Analytics\, presented by Michelle Chandler\,<a href="http://r20.rs6.net/tn.jsp?f=001NnvoK4NzqamcBsAaH2dW2ZOaK7FXGZiQqa_flPHcVOfeTMSIRx1Y0ogga_WHiGVrLmmhOqCSSdslSlGzsbL2swYvD8IC2bm5Px5Fdxhf8yQCUojEsCclL09AAwCjhj2ywx49BmaWzVrYc4W8EIMfmbWyOe9CcRLH&amp\;c=_fhUyD2Duj43LTu-DzlmDxzLMsdg_3E5e05LNvRZNTXqS2WEzSRpLQ==&amp\;ch=u2mpdtiTWuSfM13KcYmX9NJxh-GUVJn4YFo8ePiIKChTBOrqHrVmwQ==" target="_blank"> Crandall Public Library</a></strong><br />\n&nbsp\;<br />\nMichelle Chandler is the Development Director for Crandall Public Library. She has been with Crandall since June of 2018. She will be discussing donor tracking and database analytics.&nbsp\;<br />\n&nbsp\;<br />\nMichelle holds a B.A. in psychology from Bay Path University\, as well as a Master&rsquo\;s degree in Social Work from Boston University. Michelle started her fundraising career in 2007 as a Development Intern for a Child Welfare agency in Boston\, MA.<br />\n<br />\n<br />\n<strong>There&rsquo\;s a New Law in Town: What Every Employer Needs to Know to Comply with New Harassment Regulations - presented by Gail Hamel\, <a data-link-type="web" href="http://www.hamelresources.com/" target="_blank">Hamel Resources</a></strong></div>\n\n<div><br />\nDid you know that all New York employers were required to have a Sexual Harassment policy in place as of October 2018?&nbsp\;Do you know that all New York employers are required to provide annual Sexual Harassment training to all staff to begin no later than October 2019?<br />\n&nbsp\;<br />\nThis session will provide participants with information to help ensure that they recognize the significance of new regulations and how to comply.<br />\n&nbsp\;<br />\n<strong>The following areas will be covered</strong>:<br />\n&middot\;&nbsp\;&nbsp\;&nbsp\;&nbsp\;&nbsp\;Understanding what is happening and why it is happening<br />\n&middot\;&nbsp\;&nbsp\;&nbsp\;&nbsp\;&nbsp\;Everything an organization needs to know to avoid liabilities&nbsp\;<br />\n&middot\;&nbsp\;&nbsp\;&nbsp\;&nbsp\;&nbsp\;What must to be included in Sexual Harassment policies<br />\n&middot\;&nbsp\;&nbsp\;&nbsp\;&nbsp\;&nbsp\;Requirements for training<br />\n&middot\;&nbsp\;&nbsp\;&nbsp\;&nbsp\;&nbsp\;Resources&nbsp\;<br />\n&nbsp\;</div>\n\n<div>&nbsp\;</div>\n\n<div>&nbsp\;</div>\n
LOCATION:The Queensbury Hotel 88 Ridge Street\, Glens Falls\, NY 12801
UID:e.1842.3659
SEQUENCE:3
DTSTAMP:20260424T172929Z
URL:http://business.adirondackchamber.org/events/details/anbc-peer-2-peer-workshop-track-2-3659
END:VEVENT

END:VCALENDAR
