BEGIN:VCALENDAR
VERSION:2.0
PRODID:-//ChamberMaster//Event Calendar 2.0//EN
METHOD:PUBLISH
X-PUBLISHED-TTL:P3D
REFRESH-INTERVAL:P3D
CALSCALE:GREGORIAN
BEGIN:VEVENT
DTSTART:20180315T113000Z
DTEND:20180315T143000Z
X-MICROSOFT-CDO-ALLDAYEVENT:FALSE
SUMMARY:ANBC Peer 2 Peer Workshop
DESCRIPTION:The Adirondack Nonprofit Business Council (ANBC) presents their 4th Annual Peer 2 Peer Workshop. This year's workshop will include two facilitated presentations on: marketing essentials for nonprofits and shared services/cost sharing/collaboration.\n\n\n\nThis format allows attendees to learn from each other and share best practices on subjects relevant to all non-profits.\n\n\n\nFacilitator Information:\n\nGeorge Normandin\, of Normandin Marketing\, will be presenting on marketing essentials for nonprofits. George leads a nimble group of marketing\, design\, and digital experts who help each client lead their industry and grow their business. With 25 years combined experience\, they've produced more than 10\,000 campaigns and projects for over 300 businesses\, across all industries. \n\n\n\nAllison J. Schultz\, Director of Programs at the Center for Academic Community Engagement at Siena College\, has been engaging with and challenging students as they partner with ACE's non-profit community partners in the variety of programs run through the center. Allison will be presenting on shared services\, cost sharing and collaboration among nonprofits. Accompanying Allison will be Gabrielle Guidice. Gabrielle is a senior business student in the NEXT Consulting program.
X-ALT-DESC;FMTTYPE=text/html:<span style="font-size:12px\;"><span style="font-family:tahoma\;"><span style="color: rgb(0\, 0\, 0)\;">The Adirondack Nonprofit Business Council (ANBC) presents their 4th Annual Peer 2 Peer Workshop. This year&#39\;s workshop will include two facilitated presentations on: marketing essentials for nonprofits and shared services/cost sharing/collaboration</span></span>.</span><br />\n<br />\n<span style="font-family:tahoma\;"><span style="color:#000000\;"><span style="font-size: 12px\;"><span style="font-style: normal\; font-variant-ligatures: normal\; font-variant-caps: normal\; font-weight: 400\; letter-spacing: normal\; text-align: start\; text-indent: 0px\; text-transform: none\; white-space: normal\; word-spacing: 0px\; -webkit-text-stroke-width: 0px\; background-color: rgb(255\, 255\, 255)\; text-decoration-style: initial\; text-decoration-color: initial\; display: inline !important\; float: none\;">This format allows attendees to learn from each other and share best practices on subjects relevant to all non-profits.</span></span></span></span><br />\n<br />\n<span style="font-size:12px\;"><span style="font-family:tahoma\;"><span style="color:#000000\;"><strong>Facilitator Information</strong>:<br />\n<strong>George Normandin</strong>\, of <a href="http://normandinmarketing.com/" target="_blank">Normandin Marketing</a>\, will be presenting on marketing essentials for nonprofits. George leads a<span style="font-style: normal\; font-variant-ligatures: normal\; font-variant-caps: normal\; font-weight: 400\; letter-spacing: normal\; text-align: left\; text-indent: 0px\; text-transform: none\; white-space: pre-wrap\; word-spacing: 0px\; -webkit-text-stroke-width: 0px\; background-color: rgb(255\, 255\, 255)\; text-decoration-style: initial\; text-decoration-color: initial\; display: inline !important\; float: none\;"> nimble group of marketing\, design\, and digital experts who help each client lead their industry and grow their business. With 25 years combined experience\, they&#39\;ve produced more than 10\,000 campaigns and projects for over 300 businesses\, across all industries. </span></span></span></span><br />\n<br />\n<span style="font-family:tahoma\;"><span style="color:#000000\;"><span style="font-size: 12px\;"><strong>Allison J. Schultz</strong>\,</span> </span><span style="font-size:12px\;"><span style="color:#000000\;">Director of Programs at the Center for Academic Community Engagement at</span> <a href="https://www.siena.edu/" target="_blank">Siena College</a><span style="color:#000000\;">\, has been engaging with and challenging students as they partner with ACE&rsquo\;s non-profit community partners in the variety of programs run through the center. </span></span><span style="color:#000000\;"><span style="font-style: normal\; font-variant-ligatures: normal\; font-variant-caps: normal\; font-weight: 400\; letter-spacing: normal\; text-align: left\; text-indent: 0px\; text-transform: none\; white-space: pre-wrap\; word-spacing: 0px\; -webkit-text-stroke-width: 0px\; background-color: rgb(255\, 255\, 255)\; text-decoration-style: initial\; text-decoration-color: initial\; display: inline !important\; float: none\;">Allison will be presenting on shared services\, cost sharing and collaboration among nonprofits. </span>Accompanying Allison will be <strong>Gabrielle Guidice</strong>. Gabrielle is a senior business student in the NEXT Consulting program.</span></span><br />\n&nbsp\;
LOCATION:The Queensbury Hotel 88 Ridge Street\, Glens Falls\, NY 12801
UID:e.1842.1171
SEQUENCE:3
DTSTAMP:20260425T122705Z
URL:http://business.adirondackchamber.org/events/details/anbc-peer-2-peer-workshop-1171
END:VEVENT

END:VCALENDAR
