BEGIN:VCALENDAR
VERSION:2.0
PRODID:-//ChamberMaster//Event Calendar 2.0//EN
METHOD:PUBLISH
X-PUBLISHED-TTL:P3D
REFRESH-INTERVAL:P3D
CALSCALE:GREGORIAN
BEGIN:VEVENT
DTSTART:20220907T160000Z
DTEND:20220907T170000Z
X-MICROSOFT-CDO-ALLDAYEVENT:FALSE
SUMMARY:ANBC Nonprofit Brown Bag Lunch Chat
DESCRIPTION:The Adirondack Nonprofit Business Council invites you to another Brown Bag Lunch Chat!\n\n \n\nThis month's topic: Tabling opportunities - which ones are you aware of? What events are you tabling/exhibiting at? Come prepared to share!\n\n \n\nThis is an informal discussion designed to share ideas\, resources\, and collaboration opportunities. We hope you can join!
X-ALT-DESC;FMTTYPE=text/html:<div>The Adirondack Nonprofit Business Council invites you to another Brown Bag Lunch Chat!</div>\n\n<div>&nbsp\;</div>\n\n<div><strong>This month&#39\;s topic: </strong><em>Tabling opportunities - which ones are you aware of? What events are you tabling/exhibiting at? Come prepared to share!</em><br />\n&nbsp\;</div>\n\n<div><em>This is an informal discussion designed to share ideas\, resources\, and collaboration opportunities. We hope you can join!</em></div>\n
LOCATION:Virtual via Zoom
UID:e.1842.4256
SEQUENCE:3
DTSTAMP:20260419T215615Z
URL:http://business.adirondackchamber.org/events/details/anbc-nonprofit-brown-bag-lunch-chat-4256
END:VEVENT

END:VCALENDAR
