BEGIN:VCALENDAR
VERSION:2.0
PRODID:-//ChamberMaster//Event Calendar 2.0//EN
METHOD:PUBLISH
X-PUBLISHED-TTL:P3D
REFRESH-INTERVAL:P3D
CALSCALE:GREGORIAN
BEGIN:VEVENT
DTSTART:20220615T160000Z
DTEND:20220615T170000Z
X-MICROSOFT-CDO-ALLDAYEVENT:FALSE
SUMMARY:ANBC Nonprofit Brown Bag Lunch Chat
DESCRIPTION:The Adirondack Nonprofit Business Council invites you to another Brown Bag Lunch Chat!\n\n \n\nThis month's topic: How is your organization keeping up with technology? Do you outsource IT services (such as IT support\, Cyber Security\, etc)? Is Cyber Security important to your organization?\n\n \n\nThis is an informal discussion designed to share ideas\, resources\, and collaboration opportunities. We hope you can join!
X-ALT-DESC;FMTTYPE=text/html:<div>The Adirondack Nonprofit Business Council invites you to another Brown Bag Lunch Chat!</div>\n\n<div>&nbsp\;</div>\n\n<div><strong>This month&#39\;s topic: </strong><em>How is your organization keeping up with technology? Do you outsource IT services (such as IT support\, Cyber Security\, etc)? Is Cyber Security important to your organization?</em><br />\n&nbsp\;</div>\n\n<div><em>This is an informal discussion designed to share ideas\, resources\, and collaboration opportunities. We hope you can join!</em></div>\n
LOCATION:Virtual via Zoom
UID:e.1842.4245
SEQUENCE:3
DTSTAMP:20260420T023847Z
URL:http://business.adirondackchamber.org/events/details/anbc-nonprofit-brown-bag-lunch-chat-4245
END:VEVENT

END:VCALENDAR
