BEGIN:VCALENDAR
VERSION:2.0
PRODID:-//ChamberMaster//Event Calendar 2.0//EN
METHOD:PUBLISH
X-PUBLISHED-TTL:P3D
REFRESH-INTERVAL:P3D
CALSCALE:GREGORIAN
BEGIN:VEVENT
DTSTART:20220216T170000Z
DTEND:20220216T180000Z
X-MICROSOFT-CDO-ALLDAYEVENT:FALSE
SUMMARY:ANBC Nonprofit Brown Bag Lunch Chat
DESCRIPTION:Join us for another Nonprofit Brown Bag Lunch Chat\, where nonprofits discuss topics in a casual online forum. All nonprofits are encouraged to attend this discussion!\n\n\n\nThis month's topic: Nonprofit Fundraising in 2022\n\nWhat does fundraising look like for your nonprofit organization in 2022? What worked for you in 2021? Come join the discussion and share any ideas and/or tips on how you plan on fundraising this year.
X-ALT-DESC;FMTTYPE=text/html:Join us for another Nonprofit Brown Bag Lunch Chat\, where nonprofits discuss topics in a casual online forum. All nonprofits are encouraged to attend this discussion!<br />\n<br />\n<strong>This month&#39\;s topic: Nonprofit Fundraising in 2022</strong><br />\n<em>What does fundraising look like for your nonprofit organization in 2022? What worked for you in 2021?</em> Come join the discussion and share any ideas and/or tips on how you plan on fundraising this year.
LOCATION:Virtual via Zoom
UID:e.1842.4191
SEQUENCE:3
DTSTAMP:20260420T071548Z
URL:http://business.adirondackchamber.org/events/details/anbc-nonprofit-brown-bag-lunch-chat-4191
END:VEVENT

END:VCALENDAR
