BEGIN:VCALENDAR
VERSION:2.0
PRODID:-//ChamberMaster//Event Calendar 2.0//EN
METHOD:PUBLISH
X-PUBLISHED-TTL:P3D
REFRESH-INTERVAL:P3D
CALSCALE:GREGORIAN
BEGIN:VEVENT
DTSTART:20211110T170000Z
DTEND:20211110T180000Z
X-MICROSOFT-CDO-ALLDAYEVENT:FALSE
SUMMARY:ANBC Nonprofit Brown Bag Lunch Chat
DESCRIPTION:Join us for another Nonprofit Brown Bag Lunch Chat\, where nonprofits discuss topics in a casual online forum. All nonprofits are encouraged to attend this discussion!\n\n\n\nThis month's topic focuses on employee retention over recruitment\, and maintaining the staff capacity that you have. How do you take care of your staff who stayed? How do managers take care of themselves\, to then in turn take care of their staff? How do you balance the responsibilities?
X-ALT-DESC;FMTTYPE=text/html:Join us for another Nonprofit Brown Bag Lunch Chat\, where nonprofits discuss topics in a casual online forum. All nonprofits are encouraged to attend this discussion!<br />\n<br />\nThis month&#39\;s topic focuses on employee retention over recruitment\, and maintaining the staff capacity that you have. <em>How do you take care of your staff who stayed? How do managers take care of themselves\, to then in turn take care of their staff? How do you balance the responsibilities?</em>
LOCATION:Virtual via Zoom Link will be emailed to you prior to event.
UID:e.1842.4159
SEQUENCE:3
DTSTAMP:20260420T114956Z
URL:http://business.adirondackchamber.org/events/details/anbc-nonprofit-brown-bag-lunch-chat-4159
END:VEVENT

END:VCALENDAR
