BEGIN:VCALENDAR
VERSION:2.0
PRODID:-//ChamberMaster//Event Calendar 2.0//EN
METHOD:PUBLISH
X-PUBLISHED-TTL:P3D
REFRESH-INTERVAL:P3D
CALSCALE:GREGORIAN
BEGIN:VEVENT
DTSTART:20210908T160000Z
DTEND:20210908T170000Z
X-MICROSOFT-CDO-ALLDAYEVENT:FALSE
SUMMARY:ANBC Nonprofit Brown Bag Lunch Chat
DESCRIPTION:Nonprofits are invited to join us for our next Brown Bag Lunch Chat! Each month we welcome nonprofit organizations to meet to discuss challenges & solutions in the nonprofit community\, as well as exchange organizational updates.\n\n\n\nIn September we welcome special guest Assemblyman Matt Simpson for a meet & greet. We hope you can join us!\n\n\n\nIf you have specific questions for Assemblyman Simpson\, please email them to Amanda at ablanton@adirondackchamber.org.
X-ALT-DESC;FMTTYPE=text/html:Nonprofits are invited to join us for our next Brown Bag Lunch Chat! Each month we welcome nonprofit organizations to meet to discuss challenges &amp\; solutions in the nonprofit community\, as well as exchange organizational updates.<br />\n<br />\nIn September we welcome special guest Assemblyman Matt Simpson for a meet &amp\; greet. We hope you can join us!<br />\n<br />\n<em><strong>If you have specific questions for Assemblyman Simpson\, please email them to Amanda at <a href="mailto:ablanton@adirondackchamber.org">ablanton@adirondackchamber.org</a>.</strong></em>
LOCATION:Virtual via Zoom
UID:e.1842.4126
SEQUENCE:3
DTSTAMP:20260420T163209Z
URL:http://business.adirondackchamber.org/events/details/anbc-nonprofit-brown-bag-lunch-chat-4126
END:VEVENT

END:VCALENDAR
