BEGIN:VCALENDAR
VERSION:2.0
PRODID:-//ChamberMaster//Event Calendar 2.0//EN
METHOD:PUBLISH
X-PUBLISHED-TTL:P3D
REFRESH-INTERVAL:P3D
CALSCALE:GREGORIAN
BEGIN:VEVENT
DTSTART:20210609T160000Z
DTEND:20210609T170000Z
X-MICROSOFT-CDO-ALLDAYEVENT:FALSE
SUMMARY:ANBC Nonprofit Brown Bag Lunch Chat
DESCRIPTION:Join the Adirondack Nonprofit Business Council for another Brown Bag Lunch Chat! All nonprofit staff\, and board members\, are welcome to join us for organizational updates in a casual virtual setting.
X-ALT-DESC;FMTTYPE=text/html:Join the Adirondack Nonprofit Business Council for another Brown Bag Lunch Chat! All nonprofit staff\, and board members\, are welcome to join us for organizational updates in a casual virtual setting.
LOCATION:Virtual via Zoom
UID:e.1842.4118
SEQUENCE:3
DTSTAMP:20260420T200456Z
URL:http://business.adirondackchamber.org/events/details/anbc-nonprofit-brown-bag-lunch-chat-4118
END:VEVENT

END:VCALENDAR
