BEGIN:VCALENDAR
VERSION:2.0
PRODID:-//ChamberMaster//Event Calendar 2.0//EN
METHOD:PUBLISH
X-PUBLISHED-TTL:P3D
REFRESH-INTERVAL:P3D
CALSCALE:GREGORIAN
BEGIN:VEVENT
DTSTART:20210210T170000Z
DTEND:20210210T180000Z
X-MICROSOFT-CDO-ALLDAYEVENT:FALSE
SUMMARY:ANBC Nonprofit Brown Bag Lunch Chat
DESCRIPTION:During this Brown Bag Lunch Chat\, we are looking for your opinion!\n\n\n\nThink about what topics you would like to hear on\, during these meetings. Are there specific issues or challenges you would like assistance with? What topics are of most interest to your organization? Is there a nonprofit\, or for profit business\, that you admire and want to learn more about?\n\n\n\nBring your topic ideas\, and your organization updates\, to the next Brown Bag Lunch Chat!
X-ALT-DESC;FMTTYPE=text/html:During this Brown Bag Lunch Chat\, we are looking for your opinion!<br />\n<br />\nThink about what topics you would like to hear on\, during these meetings.&nbsp\;<em>Are there specific issues or challenges you would like assistance with? What topics are of most interest to your organization? Is there a nonprofit\, or for profit business\, that you admire and want to learn more about?</em><br />\n<br />\n<strong>Bring your topic ideas\, and your organization updates\, to the next Brown Bag Lunch Chat!</strong>
LOCATION:Virtual via Zoom
UID:e.1842.4024
SEQUENCE:3
DTSTAMP:20260421T035851Z
URL:http://business.adirondackchamber.org/events/details/anbc-nonprofit-brown-bag-lunch-chat-4024
END:VEVENT

END:VCALENDAR
