BEGIN:VCALENDAR
VERSION:2.0
PRODID:-//ChamberMaster//Event Calendar 2.0//EN
METHOD:PUBLISH
X-PUBLISHED-TTL:P3D
REFRESH-INTERVAL:P3D
CALSCALE:GREGORIAN
BEGIN:VEVENT
DTSTART:20200917T160000Z
DTEND:20200917T170000Z
X-MICROSOFT-CDO-ALLDAYEVENT:FALSE
SUMMARY:ANBC Brown Bag Lunch Chat (Virtual)
DESCRIPTION:The ARCC Adirondack Nonprofit Business Council (ANBC) is firing up our monthly Brown Bag Lunch Chats. The group took a bit of a hiatus\, but are now ready to regroup to discuss the challenges facing our nonprofits today. Join us\, virtually\, on Thursday\, September 17th from 12 - 1:00 pm.
X-ALT-DESC;FMTTYPE=text/html:The ARCC Adirondack Nonprofit Business Council (ANBC) is firing up our monthly Brown Bag Lunch Chats. The group took a bit of a hiatus\, but are now ready to regroup to discuss the challenges facing our nonprofits today. Join us\, virtually\, on Thursday\, September 17th from 12 - 1:00 pm.
LOCATION:Virtual via Zoom
UID:e.1842.3981
SEQUENCE:3
DTSTAMP:20260421T123210Z
URL:http://business.adirondackchamber.org/events/details/anbc-brown-bag-lunch-chat-virtual-3981
END:VEVENT

END:VCALENDAR
