BEGIN:VCALENDAR
VERSION:2.0
PRODID:-//ChamberMaster//Event Calendar 2.0//EN
METHOD:PUBLISH
X-PUBLISHED-TTL:P3D
REFRESH-INTERVAL:P3D
CALSCALE:GREGORIAN
BEGIN:VEVENT
DTSTART:20190926T160000Z
DTEND:20190926T170000Z
X-MICROSOFT-CDO-ALLDAYEVENT:FALSE
SUMMARY:ANBC Brown Bag Lunch Chat
DESCRIPTION:The next ANBC (Adirondack Non-Profit Business Council) Brown Bag Lunch Chat will take place on Thursday September 26th from 12:00pm to 1:00pm at The Aviation Mall\, Food Court\, Queensbury.\n\n\n\nAlong with updates\, Aviation Mall will highlight and discuss their future plans for the Mall and opportunities for non-profits.\n\n\n\nIf you plan on attending\, please RSVP to this month's host\, Kelly Obermayer\, Director of Development for the Moreau Community Center at 518.792.6007\, ext. 16 or by email at kelly@moreaucommunitycenter.org.
X-ALT-DESC;FMTTYPE=text/html:The next ANBC (Adirondack Non-Profit Business Council) Brown Bag Lunch Chat will take place on Thursday September 26th from 12:00pm to 1:00pm at The Aviation Mall\, Food Court\, Queensbury.<br />\n<br />\nAlong with updates\, Aviation Mall will highlight and discuss their future plans for the Mall and opportunities for non-profits.<br />\n<br />\nIf you plan on attending\, please RSVP to this month&#39\;s host\, Kelly Obermayer\, Director of Development for the Moreau Community Center at 518.792.6007\, ext. 16 or by email at <a href="mailto:kelly@moreaucommunitycenter.org?subject=ANBC%20Brown%20Bag%20Lunch%20Chat%20RSVP">kelly@moreaucommunitycenter.org</a>.<br />\n&nbsp\;
LOCATION:Aviation Mall Food Court 578 Aviation Road Queensbury\, NY 12804
UID:e.1842.3867
SEQUENCE:3
DTSTAMP:20260422T091931Z
URL:http://business.adirondackchamber.org/events/details/anbc-brown-bag-lunch-chat-3867
END:VEVENT

END:VCALENDAR
