BEGIN:VCALENDAR
VERSION:2.0
PRODID:-//ChamberMaster//Event Calendar 2.0//EN
METHOD:PUBLISH
X-PUBLISHED-TTL:P3D
REFRESH-INTERVAL:P3D
CALSCALE:GREGORIAN
BEGIN:VEVENT
DTSTART:20180419T160000Z
DTEND:20180419T170000Z
X-MICROSOFT-CDO-ALLDAYEVENT:FALSE
SUMMARY:ANBC Brown Bag Lunch Chat
DESCRIPTION:The ANBC (Adirondack Non-Profit Business Council) is invites you to another Brown Bag Lunch Chat!\n\n\n\nThe Brown Bag Lunch Chat was organized by the ANBC as a way to get regional nonprofits together to discuss challenges & hurdles of operating a nonprofit\, and also to share ideas\, resources and tools that may benefit others.\n\n \n\nPlease RSVP to host Claire M. Murphy\, MSW\, CCAP\, Executive Director of the Washington County Economic Opportunity Council\, Inc. at 518.746.2393 or by email.
X-ALT-DESC;FMTTYPE=text/html:<div _mce_style="font-size: 11pt\;" style="color: rgb(0\, 0\, 0)\; font-family: Tahoma\, Arial\, sans-serif\; font-style: normal\; font-variant-ligatures: normal\; font-variant-caps: normal\; font-weight: 400\; letter-spacing: normal\; orphans: 2\; text-align: left\; text-indent: 0px\; text-transform: none\; white-space: normal\; widows: 2\; word-spacing: 0px\; -webkit-text-stroke-width: 0px\; background-color: rgb(255\, 255\, 255)\; text-decoration-style: initial\; text-decoration-color: initial\; font-size: 11pt\;"><span style="font-size:12px\;"><span style="font-family: tahoma\;">The ANBC (Adirondack Non-Profit Business Council) is invites you to another Brown Bag Lunch Chat!<br />\n<br />\nThe Brown Bag Lunch Chat was organized by the ANBC as a way to get regional nonprofits together to discuss challenges &amp\; hurdles of operating a nonprofit\, and also to share ideas\, resources and tools that may benefit others.</span></span></div>\n\n<div _mce_style="font-size: 11pt\;" style="color: rgb(0\, 0\, 0)\; font-family: Tahoma\, Arial\, sans-serif\; font-style: normal\; font-variant-ligatures: normal\; font-variant-caps: normal\; font-weight: 400\; letter-spacing: normal\; orphans: 2\; text-align: left\; text-indent: 0px\; text-transform: none\; white-space: normal\; widows: 2\; word-spacing: 0px\; -webkit-text-stroke-width: 0px\; background-color: rgb(255\, 255\, 255)\; text-decoration-style: initial\; text-decoration-color: initial\; font-size: 11pt\;">&nbsp\;</div>\n\n<div _mce_style="font-size: 11pt\;" style="color: rgb(0\, 0\, 0)\; font-family: Tahoma\, Arial\, sans-serif\; font-style: normal\; font-variant-ligatures: normal\; font-variant-caps: normal\; font-weight: 400\; letter-spacing: normal\; orphans: 2\; text-align: left\; text-indent: 0px\; text-transform: none\; white-space: normal\; widows: 2\; word-spacing: 0px\; -webkit-text-stroke-width: 0px\; background-color: rgb(255\, 255\, 255)\; text-decoration-style: initial\; text-decoration-color: initial\; font-size: 11pt\;"><span style="font-size:12px\;"><span style="font-family: tahoma\;"><strong>Please RSVP</strong>&nbsp\;to host Claire M. Murphy\, MSW\, CCAP\, Executive Director of the Washington County Economic Opportunity Council\, Inc. at 518.746.2393 or by&nbsp\;<a _mce_href="mailto:cmmurphy@co.washington.ny.us" _mce_shape="rect" _mce_style="color: blue\; text-decoration: underline\;" href="mailto:cmmurphy@co.washington.ny.us" shape="rect" style="color: blue !important\; text-decoration: underline !important\;" target="_blank">email</a>.</span></span></div>\n
LOCATION:River Street Head Start Center (hosted by the EOC) at 11 St. Paul's Drive\, Hudson Falls\, NY 12839 For older GPS that cannot find that location\, you might try 18 River St.\, Hudson Falls. The center is located in the park in Hudson Falls. If you are coming from Glens Falls it is on the left at the top of the River Street Hill. Parking is available behind McManus Hall or across the street next to the church.
UID:e.1842.1172
SEQUENCE:3
DTSTAMP:20260425T110057Z
URL:http://business.adirondackchamber.org/events/details/anbc-brown-bag-lunch-chat-1172
END:VEVENT

END:VCALENDAR
