BEGIN:VCALENDAR
VERSION:2.0
PRODID:-//ChamberMaster//Event Calendar 2.0//EN
METHOD:PUBLISH
X-PUBLISHED-TTL:P3D
REFRESH-INTERVAL:P3D
CALSCALE:GREGORIAN
BEGIN:VEVENT
DTSTART:20171130T170000Z
DTEND:20171130T180000Z
X-MICROSOFT-CDO-ALLDAYEVENT:FALSE
SUMMARY:ANBC Brown Bag Lunch
DESCRIPTION:The Adirondack Nonprofit Business Council (ANBC) invites you to another Brown Bag Lunch Chat. Bring your own lunch and join in the conversation as local area nonprofits come together to share ideas\, discuss hurdles and learn how we may be able to share resources to help one another.
X-ALT-DESC;FMTTYPE=text/html:<span style="color:#000000\;">The Adirondack Nonprofit Business Council (ANBC) invites you to another Brown Bag Lunch Chat. Bring your own lunch and join in the conversation as local area nonprofits come together to share ideas\, discuss hurdles and learn how we may be able to share resources to help one another.</span>
LOCATION:Southern Adirondack Independent Living Center 71 Glenwood Avenue\, Queensbury\, NY 12804 Please park in the main parking lot\, enter through the main doors on the right side of the building\, follow the long hallway to the left and the conference room is straight down at the very end.
UID:e.1842.1107
SEQUENCE:3
DTSTAMP:20260425T193447Z
URL:http://business.adirondackchamber.org/events/details/anbc-brown-bag-lunch-1107
END:VEVENT

END:VCALENDAR
