BEGIN:VCALENDAR
VERSION:2.0
PRODID:-//ChamberMaster//Event Calendar 2.0//EN
METHOD:PUBLISH
X-PUBLISHED-TTL:P3D
REFRESH-INTERVAL:P3D
CALSCALE:GREGORIAN
BEGIN:VEVENT
DTSTART:20200219T123000Z
DTEND:20200219T140000Z
X-MICROSOFT-CDO-ALLDAYEVENT:FALSE
SUMMARY:ADKtechs Cyber Security Roundtable: The Importance of Cyber Security Foundations
DESCRIPTION:Every business needs a strong foundation. How do I get started? In this session of our ongoing Cyber Security Roundtable Series\, join ADKtechs and the Adirondack Regional Chamber of Commerce as the industry-leading Center for Internet Security identifies the cyber security building blocks your business needs to stay safe in our digital world.\n\n \n\nKeynote Speaker\n\nLaura Sadowski\, the Center for Internet Security\, Inc. (CIS)\n\nLaura Sadowski is Senior Program Specialist for SecureSuite Sales within Sales and Business Services at the Center for Internet Security\, Inc (CIS). Built on a foundation of independence and trust\, CIS is a globally recognized nonprofit cybersecurity organization with a mission to make the connected world a safer place. Through SecureSuite Sales\, Sadowski helps organizations combine and automate the CIS Controls and CIS Benchmarks   the global standard and recognized best practices for securing IT systems and data against the most pervasive attacks. There are currently more than 2\,000 businesses and government entities globally that are SecureSuite members. Sadowski and her team are responsible for increasing paid memberships by identifying and qualifying prospects\, and building relationships to acquire new SecureSuite members. In her time with CIS\, Sadowski has personally secured over 400 new SecureSuite members and more than $4.85 million in direct revenue. CIS SecureSuite Membership provides organizations access to multiple cybersecurity resources\, including assessment tools\, build content\, and best practice guidelines.\n\n\n\n \n\nFacilitator\n\nJared Humiston\, ADKtechs\n\nJared developed the earliest cyber security programs in the Capital Region before opening ADKtechs in 2005. Over the years\, ADKtechs has had steady growth while instilling Jared's belief that to be successful\, ADKtechs needs to provide exceptional customer service\, invest in the community\, and make continued education a part of everyday practices.
X-ALT-DESC;FMTTYPE=text/html:<span style="color:#000000\;"><strong>Every business needs a strong foundation. How do I get started? </strong>In this session of our ongoing Cyber Security Roundtable Series\, join </span><a href="https://adktechs.com/"><span style="color:#0000FF\;">ADKtechs</span></a><span style="color:#000000\;"> and the </span><a href="https://www.adirondackchamber.org/"><span style="color:#0000FF\;">Adirondack Regional Chamber of Commerce</span></a><span style="color:#000000\;"> as the industry-leading </span><a href="https://www.cisecurity.org/"><span style="color:#0000FF\;">Center for Internet Security</span></a><span style="color:#000000\;"> identifies the cyber security building blocks your business needs to stay safe in our digital world.<br />\n&nbsp\;<br />\n<em>Keynote Speaker</em><br />\n<strong>Laura Sadowski\, the Center for Internet Security\, Inc. (CIS)</strong><br />\nLaura Sadowski is Senior Program Specialist for SecureSuite Sales within Sales and Business Services at the Center for Internet Security\, Inc (CIS). Built on a foundation of independence and trust\, CIS is a globally recognized nonprofit cybersecurity organization with a mission to make the connected world a safer place. Through SecureSuite Sales\, Sadowski helps organizations combine and automate the CIS Controls and CIS Benchmarks &ndash\; the global standard and recognized best practices for securing IT systems and data against the most pervasive attacks. There are currently more than 2\,000 businesses and government entities globally that are SecureSuite members. Sadowski and her team are responsible for increasing paid memberships by identifying and qualifying prospects\, and building relationships to acquire new SecureSuite members. In her time with CIS\, Sadowski has personally secured over 400 new SecureSuite members and more than $4.85 million in direct revenue. CIS SecureSuite Membership provides organizations access to multiple cybersecurity resources\, including assessment tools\, build content\, and best practice guidelines.<br />\n<br />\n&nbsp\;<br />\n<em>Facilitator</em><br />\n<strong>Jared Humiston\, ADKtechs</strong><br />\nJared developed the earliest cyber security programs in the Capital Region before opening ADKtechs in 2005. Over the years\, ADKtechs has had steady growth while instilling Jared&rsquo\;s belief that to be successful\, ADKtechs needs to provide exceptional customer service\, invest in the community\, and make continued education a part of everyday practices.</span><br />\n&nbsp\;
LOCATION:black dog DESIGNS 174 Glen Street Glens Falls\, NY 12801
UID:e.1842.3917
SEQUENCE:3
DTSTAMP:20260421T224355Z
URL:http://business.adirondackchamber.org/events/details/adktechs-cyber-security-roundtable-the-importance-of-cyber-security-foundations-3917
END:VEVENT

END:VCALENDAR
