BEGIN:VCALENDAR
VERSION:2.0
PRODID:-//ChamberMaster//Event Calendar 2.0//EN
METHOD:PUBLISH
X-PUBLISHED-TTL:P3D
REFRESH-INTERVAL:P3D
CALSCALE:GREGORIAN
BEGIN:VEVENT
DTSTART:20200115T123000Z
DTEND:20200115T140000Z
X-MICROSOFT-CDO-ALLDAYEVENT:FALSE
SUMMARY:ADKtechs Cyber Security Roundtable: New Year\, New Risks – How to Develop a Strong Cyber Security Program
DESCRIPTION:You know that cyber security is an important part of any business\, but are you unsure of how to become cyber secure? Get the answers to all your cyber security questions while collaborating with other small business decision makers. Join ADKtechs\, GreyCastle Security\, and the Adirondack Regional Chamber of Commerce as we delve into an exclusive guide to protecting your business from emerging cyber threats in the new year.\n\n \n\nKeynote Speaker\n\nMike Stamas\, GreyCastle Security\n\nWith over two decades of experience in the technology sector\, Mike pairs his management and business development skills with a deep understanding of information security. He brings a unique brand of riskbased advising to clients and prospects. Mike holds certifications in numerous security and related areas\, including the Department of Homeland Security and other security technologies like Symantec\, Cisco and Microsoft.\n\n \n\n \n\nFacilitator\n\nJared Humiston\, ADKtechs\n\nJared developed the earliest cyber security programs in the Capital Region before opening ADKtechs in 2005. Over the years\, ADKtechs has had steady growth while instilling Jared's belief that to be successful\, ADKtechs needs to provide exceptional customer service\, invest in the community\, and make continued education a part of everyday practices.\n\n\n\n*ARCC's Cancelation Policy: A registration is a reservation and we look forward to you joining us. To best support our venue partners and event attendees\, a refund for any reservation will require 72 hours notice for cancellation. Reserved no shows will be charged the full price. We encourage you to send a co-worker\, peer\, vendor or customer if you're not able to make it and giving notice wasn't optional.
X-ALT-DESC;FMTTYPE=text/html:You know that cyber security is an important part of any business\, but are you unsure of how to become cyber secure? Get the answers to all your cyber security questions while collaborating with other small business decision makers. Join ADKtechs\, GreyCastle Security\, and the Adirondack Regional Chamber of Commerce as we delve into an exclusive guide to protecting your business from emerging cyber threats in the new year.<br />\n&nbsp\;<br />\n<u><strong>Keynote Speaker</strong></u><br />\nMike Stamas\, GreyCastle Security<br />\nWith over two decades of experience in the technology sector\, Mike pairs his management and business development skills with a deep understanding of information security. He brings a unique brand of riskbased advising to clients and prospects. Mike holds certifications in numerous security and related areas\, including the Department of Homeland Security and other security technologies like Symantec\, Cisco and Microsoft.<br />\n&nbsp\;<br />\n&nbsp\;<br />\n<strong><u>Facilitator</u></strong><br />\nJared Humiston\, ADKtechs<br />\nJared developed the earliest cyber security programs in the Capital Region before opening ADKtechs in 2005. Over the years\, ADKtechs has had steady growth while instilling Jared&rsquo\;s belief that to be successful\, ADKtechs needs to provide exceptional customer service\, invest in the community\, and make continued education a part of everyday practices.<br />\n<br />\n<span style="color:#000000\;"><span style="font-size:11px\;"><em>*ARCC&#39\;s Cancelation Policy: A registration is a reservation and we look forward to you joining us. To best support our venue partners and event attendees\, a refund for any reservation will require 72 hours notice for cancellation. Reserved no shows will be charged the full price. We encourage you to send a co-worker\, peer\, vendor or customer if you&#39\;re not able to make it and giving notice wasn&#39\;t optional.</em></span></span><br />\n&nbsp\;
LOCATION:black dog DESIGNS 174 Glen Street Glens Falls\, NY 12801
UID:e.1842.3899
SEQUENCE:3
DTSTAMP:20260422T015815Z
URL:http://business.adirondackchamber.org/events/details/adktechs-cyber-security-roundtable-new-year-new-risks-how-to-develop-a-strong-cyber-security-program-3899
END:VEVENT

END:VCALENDAR
