BEGIN:VCALENDAR
VERSION:2.0
PRODID:-//ChamberMaster//Event Calendar 2.0//EN
METHOD:PUBLISH
X-PUBLISHED-TTL:P3D
REFRESH-INTERVAL:P3D
CALSCALE:GREGORIAN
BEGIN:VEVENT
DTSTART:20200819T140000Z
DTEND:20200819T150000Z
X-MICROSOFT-CDO-ALLDAYEVENT:FALSE
SUMMARY:ADKtechs Cyber Security Roundtable: COVID-19 Debrief
DESCRIPTION:How was your business impacted by the COVID-19 outbreak? What did you learn? How could you be better prepared?\n\n\n\nIn this virtual session of our ongoing Cyber Security Roundtable Series\, join Adirondack Technical Solutions and the Adirondack Regional Chamber of Commerce as we discuss the impacts of the COVID-19 pandemic on our region and how we can better secure & prepare our businesses moving forward.\n\n\n\nFor more information on this event\, click here.\n\n\n\nPlease pre-register for this virtual event. Once registered\, you will receive a link to join the event.
X-ALT-DESC;FMTTYPE=text/html:<div><strong>How was your business impacted by the COVID-19 outbreak? What did you learn? How could you be better prepared?</strong><br />\n<br />\nIn this <strong>virtual session</strong> of our ongoing Cyber Security Roundtable Series\, join <a href="https://www.facebook.com/adktechs/" target="_blank">Adirondack Technical Solutions</a> and the <a href="https://www.facebook.com/adirondackchamber/" target="_blank">Adirondack Regional Chamber of Commerce</a> as we discuss the impacts of the COVID-19 pandemic on our region and how we can better secure &amp\; prepare our businesses moving forward.<br />\n<br />\nFor more information on this event\, <a href="https://adktechs.com/cyber-security-roundtable-series-081920/" target="_blank">click here</a>.<br />\n<br />\n<strong>Please pre-register for this virtual event. Once registered\, you will receive a link to join the event.</strong></div>\n
LOCATION:Virtual event hosted through Microsoft Teams
UID:e.1842.3971
SEQUENCE:3
DTSTAMP:20260421T123144Z
URL:http://business.adirondackchamber.org/events/details/adktechs-cyber-security-roundtable-covid-19-debrief-3971
END:VEVENT

END:VCALENDAR
