BEGIN:VCALENDAR
VERSION:2.0
PRODID:-//ChamberMaster//Event Calendar 2.0//EN
METHOD:PUBLISH
X-PUBLISHED-TTL:P3D
REFRESH-INTERVAL:P3D
CALSCALE:GREGORIAN
BEGIN:VEVENT
DTSTART:20181115T130000Z
DTEND:20181115T160000Z
X-MICROSOFT-CDO-ALLDAYEVENT:FALSE
SUMMARY:Access to Capital and Strategies for Growth
DESCRIPTION:TD Bank\, the Adirondack Regional Chambers of Commerce and the Warren County EDC invite you to a FREE Small Business Seminar:\n\nAccess to Capital and Strategies for Growth\n\n\n\nTopics include\n\nCapital Access - panelists will discuss financing options for startups\, credit repair and ways to grow your small business.\n\n \n\nGrowth Strategies - panelists will address MWBE Certification\, identifying new markets\, hiring and navigating challenges. \n\n \n\nFeatured panelists\n\n	Affordable Housing Partnership   Susan Cotner\n	Albany Small Business Development Center   Matt Hosek\n	Empire State Development   Matthew Kennedy\n	Innovate 518\, Robert Manasier\n	New York Business Development Corporation   Ross Pancoe\n	SCORE   Bill Edwards\n	Warren County Economic Development Corporation\, Jennifer Switzer\n	Washington County Local Development Corporation   Deanna Derway\n\n \n\nREGISTER BY November 13\, 2018
X-ALT-DESC;FMTTYPE=text/html:<strong><span style="font-family:frutiger-light\,sans-serif\;"><span style="font-size:10.0pt\;">TD Bank\, the Adirondack Regional Chambers of Commerce and the Warren County EDC invite you to a FREE Small Business Seminar:<br />\n<span style="font-size:18px\;"><em>Access to Capital and Strategies for Growth</em></span></span></span><br />\n<br />\n<span style="color:#006600\;"><span style="font-family:frutiger-bold\,sans-serif\;"><span style="font-size:10.0pt\;">Topics include</span></span></span></strong><br />\n<strong><span style="font-family:frutiger-light\,sans-serif\;"><span style="font-size:10.0pt\;">Capital Access -</span></span></strong> <span style="font-family:frutiger-light\,sans-serif\;"><span style="font-size:10.0pt\;">panelists will discuss financing options for startups\, credit repair and ways to grow your small business.</span></span><br />\n&nbsp\;<br />\n<strong><span style="font-family:frutiger-light\,sans-serif\;"><span style="font-size:10.0pt\;">Growth Strategies - </span></span></strong><span style="font-family:frutiger-light\,sans-serif\;"><span style="font-size:10.0pt\;">panelists will address MWBE Certification\, identifying new markets\, hiring and navigating challenges. </span></span><br />\n&nbsp\;<br />\n<strong><span style="color:#006600\;"><span style="font-family:frutiger-bold\,sans-serif\;"><span style="font-size:10.0pt\;">Featured panelists</span></span></span></strong>\n<ul>\n	<li><span style="font-family:frutiger-light\,sans-serif\;"><span style="font-size:10.0pt\;">Affordable Housing Partnership &ndash\; Susan Cotner</span></span></li>\n	<li><span style="font-family:frutiger-light\,sans-serif\;"><span style="font-size:10.0pt\;">Albany Small Business Development Center &ndash\; Matt Hosek</span></span></li>\n	<li><span style="font-family:frutiger-light\,sans-serif\;"><span style="font-size:10.0pt\;">Empire State Development &ndash\; Matthew Kennedy</span></span></li>\n	<li><span style="font-family:frutiger-light\,sans-serif\;"><span style="font-size:10.0pt\;">Innovate 518\, Robert Manasier</span></span></li>\n	<li><span style="font-family:frutiger-light\,sans-serif\;"><span style="font-size:10.0pt\;">New York Business Development Corporation &ndash\; Ross Pancoe</span></span></li>\n	<li><span style="font-family:frutiger-light\,sans-serif\;"><span style="font-size:10.0pt\;">SCORE &ndash\; Bill Edwards</span></span></li>\n	<li><span style="font-family:frutiger-light\,sans-serif\;"><span style="font-size:10.0pt\;">Warren County Economic Development Corporation\, Jennifer Switzer</span></span></li>\n	<li><span style="font-family:frutiger-light\,sans-serif\;"><span style="font-size:10.0pt\;">Washington County Local Development Corporation &ndash\; Deanna Derway</span></span></li>\n</ul>\n&nbsp\;<br />\n<span style="font-size:18px\;"><strong><span style="color:#006600\;"><span style="font-family:frutiger-bold\,sans-serif\;">REGISTER BY November 13\, 2018</span></span></strong></span>
LOCATION:Hiland Park Country Club 195 Haviland Road\, Queensbury\, NY
UID:e.1842.3491
SEQUENCE:3
DTSTAMP:20260425T012158Z
URL:http://business.adirondackchamber.org/events/details/access-to-capital-and-strategies-for-growth-3491
END:VEVENT

END:VCALENDAR
