BEGIN:VCALENDAR
VERSION:2.0
PRODID:-//ChamberMaster//Event Calendar 2.0//EN
METHOD:PUBLISH
X-PUBLISHED-TTL:P3D
REFRESH-INTERVAL:P3D
CALSCALE:GREGORIAN
BEGIN:VEVENT
DTSTART:20180913T203000Z
DTEND:20180913T220000Z
X-MICROSOFT-CDO-ALLDAYEVENT:FALSE
SUMMARY:9.2018 Park Theater Mixer
DESCRIPTION:Please join us for a mixer at the newly renovated Park Theater in downtown Glens Falls! The Park Theater's state of the art performing space and the grand entry is a sight to be seen. Located downstairs\, Doc's Restaurant has a full bar serving bar serving craft beer\, craft cocktails and an impressive 40 bottle wine list.\n\n\n\n*ARCC's Cancelation Policy: A registration is a reservation and we look forward to you joining us.  To best support our venue partners and event attendees\, a refund for any reservation will require 72 hours notice for cancellation. Reserved no shows will be charged the full price. We encourage you to send a co-worker\, peer\, vendor or customer if you're not able to make it and giving notice wasn't optional.
X-ALT-DESC;FMTTYPE=text/html:<span style="color:#000000\;">Please join us for a mixer at the newly renovated Park Theater in downtown Glens Falls! The Park Theater&#39\;s state of the art performing space and the grand entry is a sight to be seen. Located downstairs\, Doc&#39\;s Restaurant has a full bar serving bar serving craft beer\, craft cocktails and an impressive 40 bottle wine list.<br />\n<br />\n<span style="font-size:11px\;"><em>*ARCC&#39\;s&nbsp\;Cancelation Policy: A registration is a reservation and we look forward to you joining us. &nbsp\;To best support our venue partners and event attendees\, a refund for any reservation will require 72 hours notice for&nbsp\;cancellation. Reserved no shows will be charged the full price. We encourage you to send a co-worker\, peer\, vendor or customer if you&#39\;re not able to make it and giving notice wasn&#39\;t optional.</em></span></span>
LOCATION:The Park Theater 14 Park St\, Glens Falls\, NY 12801
UID:e.1842.3459
SEQUENCE:3
DTSTAMP:20260425T030330Z
URL:http://business.adirondackchamber.org/events/details/9-2018-park-theater-mixer-3459
END:VEVENT

END:VCALENDAR
