BEGIN:VCALENDAR
VERSION:2.0
PRODID:-//ChamberMaster//Event Calendar 2.0//EN
METHOD:PUBLISH
X-PUBLISHED-TTL:P3D
REFRESH-INTERVAL:P3D
CALSCALE:GREGORIAN
BEGIN:VEVENT
DTSTART:20210608T113000Z
DTEND:20210608T130000Z
X-MICROSOFT-CDO-ALLDAYEVENT:FALSE
SUMMARY:6.8.21 ARCC Women's Business Council Meeting
DESCRIPTION:We are hoping you can join us for the last ARCC Women's Business Council (WBC) meeting before we take our Summer break! The meeting is on Tuesday\, June 8th at 7:30 am.\n\n\n\nWe will get a chance to meet and hear from WBC Leadership position nominees\, and also reflect on the last year with special remarks from current WBC Leadership. And finally\, we will end the meeting with breakout room networking. Here are some questions to prep you for the networking:\n\n\n	Will you be taking a break this Summer\, or is it business as usual?\n	What did you get out of the WBC this past year?\n	What goals did you accomplish so far in 2021?
X-ALT-DESC;FMTTYPE=text/html:<p>We are hoping you can join us for the last ARCC Women&#39\;s Business Council (WBC) meeting before we take our Summer break! <strong>The meeting is on Tuesday\, June 8th at 7:30 am.</strong><br />\n<br />\nWe will get a chance to meet and hear from WBC Leadership position nominees\, and also reflect on the last year with special remarks from current WBC Leadership. And finally\, we will end the meeting with breakout room networking. <strong>Here are some questions to prep you for the networking:</strong></p>\n\n<ul>\n	<li style="margin-left:0in\;">Will you be taking a break this Summer\, or is it business as usual?</li>\n	<li style="margin-left:0in\;">What did you get out of the WBC this past year?</li>\n	<li style="margin-left:0in\;">What goals did you accomplish so far in 2021?</li>\n</ul>\n
LOCATION:Virtual via Zoom
UID:e.1842.4116
SEQUENCE:3
DTSTAMP:20260420T200919Z
URL:http://business.adirondackchamber.org/events/details/6-8-21-arcc-women-s-business-council-meeting-4116
END:VEVENT

END:VCALENDAR
