BEGIN:VCALENDAR
VERSION:2.0
PRODID:-//ChamberMaster//Event Calendar 2.0//EN
METHOD:PUBLISH
X-PUBLISHED-TTL:P3D
REFRESH-INTERVAL:P3D
CALSCALE:GREGORIAN
BEGIN:VEVENT
DTSTART:20180531T203000Z
DTEND:20180531T220000Z
X-MICROSOFT-CDO-ALLDAYEVENT:FALSE
SUMMARY:5.2018 ARCC Mixer at The Downtown Social May 2018
DESCRIPTION:Come check out Downtown Social\, the newest addition to downtown Glens Falls.\n\n\n\nEnjoy drink specials and food samples as you network with your peers\, plus meet the new ARCC President/CEO\, Michael Bittel.\n\n\n\nDowntown Social is an entertainment eatery that will feature a cafe\, upscale delicatessen\, restaurant\, wine bar\, bourbon room and live music/entertainment.
X-ALT-DESC;FMTTYPE=text/html:<span style="color:#000000\;"><strong>Come check out Downtown Social\, the newest addition to downtown Glens Falls.</strong><br />\n<br />\nEnjoy drink specials and food samples as you network with your peers\, plus meet the new ARCC President/CEO\, Michael Bittel.<br />\n<br />\nDowntown Social is an entertainment eatery that will feature a cafe\, upscale delicatessen\, restaurant\, wine bar\, bourbon room and live music/entertainment.</span>
LOCATION:190 Glen Street Glens Falls\, NY 12801
UID:e.1842.3370
SEQUENCE:3
DTSTAMP:20260425T110433Z
URL:http://business.adirondackchamber.org/events/details/5-2018-arcc-mixer-at-the-downtown-social-may-2018-3370
END:VEVENT

END:VCALENDAR
