BEGIN:VCALENDAR
VERSION:2.0
PRODID:-//ChamberMaster//Event Calendar 2.0//EN
METHOD:PUBLISH
X-PUBLISHED-TTL:P3D
REFRESH-INTERVAL:P3D
CALSCALE:GREGORIAN
BEGIN:VEVENT
DTSTART:20180419T203000Z
DTEND:20180419T220000Z
X-MICROSOFT-CDO-ALLDAYEVENT:FALSE
SUMMARY:4.2018 ARCC Mixer at Chez Pierre Restaurant April 2019
DESCRIPTION:Come experience a little bit of Paris as you network with peers and other businesses.\n\n\n\nChez Pierre serves up elegant French cuisine in a casual setting and is located just a short drive down Route 9.\n\n\n\nOur host\, Pia\, is preparing a delicious assortment of appetizers and drink specials for the evening. We hope you can join us!\n\n\n\n*ARCC's Cancelation Policy: A registration is a reservation and we look forward to you joining us.  To best support our venue partners and event attendees\, a refund for any reservation will require 72 hours notice for cancellation. Reserved no shows will be charged the full price. We encourage you to send a co-worker\, peer\, vendor or customer if you're not able to make it and giving notice wasn't optional.
X-ALT-DESC;FMTTYPE=text/html:<span style="font-family:tahoma\;"><span style="color: rgb(0\, 0\, 0)\;">Come experience a little bit of Paris as you network with peers and other businesses.<br />\n<br />\nChez Pierre serves up elegant French cuisine in a casual setting and is located just a short drive down Route 9.<br />\n<br />\nOur host\, Pia\, is preparing a delicious assortment of appetizers and drink specials for the evening. We hope you can join us!</span></span><br />\n<br />\n<em style="margin: 0px\; padding: 0px\; border: currentcolor\; outline: 0px\; font-size: 14px\; bottom: auto\; box-sizing: content-box\; clear: none\; color: rgb(0\, 0\, 0)\; content: normal\; direction: inherit\; display: inline\; empty-cells: show\; font-style: italic\; font-variant-ligatures: normal\; font-variant-caps: normal\; font-variant-numeric: inherit\; font-variant-east-asian: inherit\; font-weight: 400\; font-stretch: inherit\; font-family: tahoma\; left: auto\; letter-spacing: normal\; line-height: inherit\; max-height: none\; max-width: none\; min-height: initial\; min-width: initial\; opacity: 1\; outline-offset: 0px\; overflow: visible\; position: static\; resize: none\; right: auto\; table-layout: auto\; text-align: left\; text-decoration: none\; text-indent: 0px\; text-overflow: clip\; text-transform: none\; top: auto\; vertical-align: baseline\; visibility: inherit\; white-space: normal\; word-break: inherit\; word-spacing: 0px\; word-wrap: inherit\; z-index: auto\; background: none rgb(255\, 255\, 255)\; border-collapse: separate\; border-radius: 0px\; height: auto\; width: auto\; box-shadow: none\; orphans: 2\; widows: 2\; -webkit-text-stroke-width: 0px\;"><span style="margin: 0px\; padding: 0px\; border: medium none\; outline: currentcolor none 0px\; font-size: 11px\; bottom: auto\; box-sizing: content-box\; clear: none\; color: inherit\; content: normal\; direction: inherit\; display: inline\; empty-cells: show\; font-style: inherit\; font-variant: inherit\; font-weight: inherit\; font-stretch: inherit\; font-family: inherit\; left: auto\; letter-spacing: inherit\; line-height: inherit\; max-height: none\; max-width: none\; min-height: initial\; min-width: initial\; opacity: 1\; outline-offset: 0px\; overflow: visible\; position: static\; resize: none\; right: auto\; table-layout: auto\; text-align: inherit\; text-decoration: none\; text-indent: inherit\; text-overflow: clip\; text-transform: inherit\; top: auto\; vertical-align: baseline\; visibility: inherit\; white-space: inherit\; word-break: inherit\; word-spacing: inherit\; word-wrap: inherit\; z-index: auto\; background: none 0% 0% repeat scroll rgba(0\, 0\, 0\, 0)\; border-collapse: separate\; border-radius: 0px\; height: auto\; width: auto\; box-shadow: none\;"><span style="margin: 0px\; padding: 0px\; border: medium none\; outline: currentcolor none 0px\; font-size: inherit\; bottom: auto\; box-sizing: content-box\; clear: none\; color: inherit\; content: normal\; direction: inherit\; display: inline\; empty-cells: show\; float: none\; font-style: inherit\; font-variant: inherit\; font-weight: inherit\; font-stretch: inherit\; font-family: inherit\; left: auto\; letter-spacing: inherit\; line-height: 18.9px\; max-height: none\; max-width: none\; min-height: initial\; min-width: initial\; opacity: 1\; outline-offset: 0px\; overflow: visible\; position: static\; resize: none\; right: auto\; table-layout: auto\; text-align: inherit\; text-decoration: none\; text-indent: inherit\; text-overflow: clip\; text-transform: inherit\; top: auto\; vertical-align: baseline\; visibility: inherit\; white-space: inherit\; word-break: inherit\; word-spacing: inherit\; word-wrap: inherit\; z-index: auto\; background: none 0% 0% repeat scroll rgba(0\, 0\, 0\, 0)\; border-collapse: separate\; border-radius: 0px\; height: auto\; width: auto\; box-shadow: none\;">*</span><span style="margin: 0px\; padding: 0px\; border: medium none\; outline: currentcolor none 0px\; font-size: inherit\; bottom: auto\; box-sizing: content-box\; clear: none\; color: inherit\; content: normal\; direction: inherit\; display: inline\; empty-cells: show\; float: none\; font-style: inherit\; font-variant: inherit\; font-weight: inherit\; font-stretch: inherit\; font-family: inherit\; left: auto\; letter-spacing: inherit\; line-height: 15.36px\; max-height: none\; max-width: none\; min-height: initial\; min-width: initial\; opacity: 1\; outline-offset: 0px\; overflow: visible\; position: static\; resize: none\; right: auto\; table-layout: auto\; text-align: inherit\; text-decoration: none\; text-indent: inherit\; text-overflow: clip\; text-transform: inherit\; top: auto\; vertical-align: baseline\; visibility: inherit\; white-space: inherit\; word-break: inherit\; word-spacing: inherit\; word-wrap: inherit\; z-index: auto\; background: none 0% 0% repeat scroll rgba(0\, 0\, 0\, 0)\; border-collapse: separate\; border-radius: 0px\; height: auto\; width: auto\; box-shadow: none\;">ARCC&#39\;s&nbsp\;Cancelation Policy: A registration is a reservation and we look forward to you joining us. &nbsp\;To best support our venue partners and event attendees\, a refund for any reservation will require 72 hours notice for&nbsp\;cancellation. Reserved no shows will be charged the full price. We encourage you to send a co-worker\, peer\, vendor or customer if you&#39\;re not able to make it and giving notice wasn&#39\;t optional.</span></span></em>
LOCATION:Chez Pierre Restaurant 979 Route 9\, Gansevoort\, NY 12831
UID:e.1842.1234
SEQUENCE:3
DTSTAMP:20260425T110351Z
URL:http://business.adirondackchamber.org/events/details/4-2018-arcc-mixer-at-chez-pierre-restaurant-april-2019-1234
END:VEVENT

END:VCALENDAR
