BEGIN:VCALENDAR
VERSION:2.0
PRODID:-//ChamberMaster//Event Calendar 2.0//EN
METHOD:PUBLISH
X-PUBLISHED-TTL:P3D
REFRESH-INTERVAL:P3D
CALSCALE:GREGORIAN
BEGIN:VEVENT
DTSTART:20180314T160000Z
DTEND:20180314T200000Z
X-MICROSOFT-CDO-ALLDAYEVENT:FALSE
SUMMARY:30th Annual Job Discovery
DESCRIPTION:This event is a job fair and business expo organized and put on by a committee comprised of local employers. Job Discovery is a cost effective method of recruiting and promoting your products and services and an opportunity to network with other employers.\n\n\n\nEmployers interested in participating in this event are encouraged to register on-line as early as possible\, as space is limited and it is a first come first served event. Fee to participate is $135 before January 31st\, $150 after January 31st.
X-ALT-DESC;FMTTYPE=text/html:<span style="font-family:tahoma\;"><span style="color: rgb(0\, 0\, 0)\; font-size: 15px\; font-style: normal\; font-variant-ligatures: normal\; font-variant-caps: normal\; font-weight: 400\; letter-spacing: normal\; text-align: start\; text-indent: 0px\; text-transform: none\; white-space: normal\; word-spacing: 0px\; -webkit-text-stroke-width: 0px\; background-color: rgb(255\, 255\, 255)\; text-decoration-style: initial\; text-decoration-color: initial\; display: inline !important\; float: none\;">This event is a job fair and business expo organized and put on by a committee comprised of local employers. Job Discovery is a cost effective method of recruiting and promoting your products and services and an opportunity to network with other employers.</span></span><br />\n<br />\n<span style="color: rgb(0\, 0\, 0)\; font-family: Roboto\, &quot\;Helvetica Neu&quot\;\, Arial\, sans-serif\; font-size: 15px\; font-style: normal\; font-variant-ligatures: normal\; font-variant-caps: normal\; font-weight: 400\; letter-spacing: normal\; orphans: 2\; text-align: start\; text-indent: 0px\; text-transform: none\; white-space: normal\; widows: 2\; word-spacing: 0px\; -webkit-text-stroke-width: 0px\; background-color: rgb(255\, 255\, 255)\; text-decoration-style: initial\; text-decoration-color: initial\; display: inline !important\; float: none\;">Employers interested in participating in this event are encouraged to register on-line as early as possible\,&nbsp\;as&nbsp\;space&nbsp\;is&nbsp\;limited and it is a first come first served&nbsp\;event. <strong>Fee to participate is $135 before January 31st\, $150 after January 31st.</strong></span>
LOCATION:SUNY Adirondack Gymnasium 640 Bay Road\, Queensbury\, NY 12804
UID:e.1842.1133
SEQUENCE:3
DTSTAMP:20260425T123015Z
URL:http://business.adirondackchamber.org/events/details/30th-annual-job-discovery-1133
END:VEVENT

END:VCALENDAR
